Workbook
Name TitleRegion1.A19.G24.Note3Investments: 'Note 3 Investments'!$A$19
Name TitleRegion1.A2.B17.Note27: 'Note 27 Taxes Rec'' & Payables'!$A$2
Name TitleRegion1.A2.B5.Note12: 'Note 12 Interfund'!$A$2
Name TitleRegion1.A2.C20.ExhibitJ2: 'Exhibit J-2'!$A$2
Name TitleRegion1.A2.C4.Note3Deposits: 'Note 3 Deposits of Cash in Bank'!$B$2
Name TitleRegion1.A2.C9.ExhibitJ1: 'Exhibit J-1'!$A$2
Name TitleRegion1.A2.E12.Note32: 'Note 32 Govt Fund Balance'!$A$2
Name TitleRegion1.A2.E14.ExhibitI1: 'Exhibit I-1'!$A$2
Name TitleRegion1.A2.E21.ExhibitC2: 'Exhibit C-2'!$A$2
Name TitleRegion1.A2.E23.ExhibitI2: 'Exhibit I-2'!$A$2
Name TitleRegion1.A2.E31.ExhibitC1: 'Exhibit C-1'!$A$2
Name TitleRegion1.A2.E5.Note17: 'Note 17 Risk Management'!$A$2
Name TitleRegion1.A2.F15.Note7: 'Note 7 Derivatives'!$A$2
Name TitleRegion1.A2.F61.Schedule4: 'Schedule 4 concluded'!$A$2
Name TitleRegion1.A2.G10.Note2: 'Note 2 Capital Assets'!$A$2
Name TitleRegion1.A2.H35.Note3CreditRisk: 'Note 3 Credit Risk'!$A$3
Name TitleRegion1.A2.H4.Note5: 'Note 5 Long Term Liabilities'!$A$2
Name TitleRegion1.A2.J18.Schedule1A: 'Schedule 1-A'!$A$2
Name TitleRegion1.A2.M22.ExhibitB2: 'Exhibit B-2'!$A$2
Name TitleRegion1.A2.M32.ExhibitB1: 'Exhibit B-1'!$A$2
Name TitleRegion1.A2.U41.ExhibitA1: 'Exhibit A-1'!$A$2
Name TitleRegion1.A2.W39.ExhibitA2: 'Exhibit A-2'!$A$2
Name TitleRegion1.A26.G31.Note3Investments: 'Note 3 Investments'!$A$26
Name TitleRegion1.A3.D16.Exhibit6: 'Exhibit VI'!$A$3
Name TitleRegion1.A3.D29.Exhibit7: 'Exhibit VII'!$A$3
Name TitleRegion1.A3.E43.Exhibit2: 'Exhibit II'!$A$4
Name TitleRegion1.A3.E48.Exhibit1: 'Exhibit I'!$A$3
Name TitleRegion1.A3.F16.Schedule5: 'Schedule 5'!$A$3
Name TitleRegion1.A3.G17.Note3Investments: 'Note 3 Investments'!$A$3
Name TitleRegion1.A33.G39.Note3Investments: 'Note 3 Investments'!$A$33
Name TitleRegion2.A17.F29.Schedule5: 'Schedule 5'!$A$17
Name TitleRegion2.A37.H69.Note3CreditRisk: 'Note 3 Credit Risk'!$A$37

Sheet Publishing

Sheet Table of Contents
A1: Table of Contents
A2: Exhibit I
A3: Exhibit II
A4: Exhibit VI
A5: Exhibit VII
A6: Note 2: Capital Assets
A7: Note 3: Deposits of Cash In Bank
A8: Note 3 Investments
A9: Note 3: Credit Risk
A10: Note 5: Summary of Long Term Liabilities
A11: Note 7: Derivatives
A12: Note 12: Interfund Activity and Transactions
... A30: End of Sheet

Sheet Exhibit I
A1: Agency 902 EXHIBIT I Combined Balance Sheet – Governmental Funds August 31, 2025
A2: Governmental Fund Types
A3: Financial Statement Line Items | B3: General Funds (Exhibit A-1) | C3: Special Revenue Funds (Exhibit B-1) | D3: Permanent Funds (Exhibit C-1) | E3: Governmental Funds Total
A4: =+'Exhibit I - no Z rows'!A3 -> ASSETS
A5: =+'Exhibit I - no Z rows'!A4 -> Current Assets:
A6: =+'Exhibit I - no Z rows'!A5 -> Cash and Cash Equivalents:
A7: =+'Exhibit I - no Z rows'!A6 -> Cash in Bank (Note 3) | B7: 0 | C7: =+'Exhibit I - no Z rows'!C6 -> 18689014 | D7: 0 | E7: =+'Exhibit I - no Z rows'!E6 -> 18689014
A8: =+'Exhibit I - no Z rows'!A7 -> Cash in State Treasury | B8: 3.4736046e+10 | C8: =+'Exhibit I - no Z rows'!C7 -> 6063607.5 | D8: =+'Exhibit I - no Z rows'!D7 -> 1.6877376e+08 | E8: 3.4910884e+10
A9: =+'Exhibit I - no Z rows'!A8 -> Legislative Appropriations | B9: -2.3370899e+08 | C9: 0 | D9: 0 | E9: -2.3370899e+08
A10: =+'Exhibit I - no Z rows'!A9 -> Short Term Investments (Note 3) | B10: =+'Exhibit I - no Z rows'!B9 -> 2.3913706e+08 | C10: =+'Exhibit I - no Z rows'!C9 -> 1316237.2 | D10: =+'Exhibit I - no Z rows'!D9 -> 24130239 | E10: =+'Exhibit I - no Z rows'!E9 -> 2.6458354e+08
A11: =+'Exhibit I - no Z rows'!A10 -> Receivables:
A12: =+'Exhibit I - no Z rows'!A11 -> Accounts | B12: =+'Exhibit I - no Z rows'!B11 -> 2.8546667e+08 | C12: 0 | D12: 0 | E12: =+'Exhibit I - no Z rows'!E11 -> 2.8546667e+08
A13: =+'Exhibit I - no Z rows'!A12 -> Taxes (Note 27) | B13: =+'Exhibit I - no Z rows'!B12 -> 5.5073257e+09 | C13: 0 | D13: 0 | E13: =+'Exhibit I - no Z rows'!E12 -> 5.5073257e+09
A14: =+'Exhibit I - no Z rows'!A13 -> Investment Trades | B14: =+'Exhibit I - no Z rows'!B13 -> 17281151 | C14: 0 | D14: 0 | E14: =+'Exhibit I - no Z rows'!E13 -> 17281151
A15: =+'Exhibit I - no Z rows'!A14 -> Interest and Dividends | B15: =+'Exhibit I - no Z rows'!B14 -> 55076400 | C15: =+'Exhibit I - no Z rows'!C14 -> 453011.89 | D15: =+'Exhibit I - no Z rows'!D14 -> 267012.55 | E15: =+'Exhibit I - no Z rows'!E14 -> 55796424
A16: =+'Exhibit I - no Z rows'!A15 -> Due From Other Agencies | B16: =+'Exhibit I - no Z rows'!B15 -> 2.1127382e+09 | C16: =+'Exhibit I - no Z rows'!C15 -> 2789594.5 | D16: =+'Exhibit I - no Z rows'!D15 -> 224337.3 | E16: =+'Exhibit I - no Z rows'!E15 -> 2.1157521e+09
A17: =+'Exhibit I - no Z rows'!A16 -> Total Current Assets | B17: 4.2719362e+10 | C17: =+'Exhibit I - no Z rows'!C16 -> 29311466 | D17: =+'Exhibit I - no Z rows'!D16 -> 1.9339535e+08 | E17: 4.2942069e+10
A18: =+'Exhibit I - no Z rows'!A17 -> Non-Current Assets:
A19: =+'Exhibit I - no Z rows'!A18 -> Receivables
A20: =+'Exhibit I - no Z rows'!A19 -> Investments (Note 3) | B20: =+'Exhibit I - no Z rows'!B19 -> 2.1175117e+10 | C20: =+'Exhibit I - no Z rows'!C19 -> 9.7465808e+08 | D20: =+'Exhibit I - no Z rows'!D19 -> 8.0251419e+08 | E20: =+'Exhibit I - no Z rows'!E19 -> 2.2952289e+10
A21: =+'Exhibit I - no Z rows'!A20 -> Total Non-Current Assets | B21: =+'Exhibit I - no Z rows'!B20 -> 2.1175117e+10 | C21: =+'Exhibit I - no Z rows'!C20 -> 9.7465808e+08 | D21: =+'Exhibit I - no Z rows'!D20 -> 8.0251419e+08 | E21: =+'Exhibit I - no Z rows'!E20 -> 2.2952289e+10
A22: =+'Exhibit I - no Z rows'!A21 -> Total Assets | B22: 6.3894479e+10 | C22: =+'Exhibit I - no Z rows'!C21 -> 1.0039695e+09 | D22: =+'Exhibit I - no Z rows'!D21 -> 9.9590954e+08 | E22: 6.5894359e+10
A23: =+'Exhibit I - no Z rows'!A24 -> LIABILITIES AND FUND BALANCES
A24: =+'Exhibit I - no Z rows'!A25 -> Liabilities:
A25: =+'Exhibit I - no Z rows'!A26 -> Current Liabilities:
A26: =+'Exhibit I - no Z rows'!A27 -> Payables From:
A27: =+'Exhibit I - no Z rows'!A28 -> Accounts | B27: =+'Exhibit I - no Z rows'!B28 -> 20752298 | C27: =+'Exhibit I - no Z rows'!C28 -> 165549.8 | D27: =+'Exhibit I - no Z rows'!D28 -> 381290.16 | E27: =+'Exhibit I - no Z rows'!E28 -> 21299138
A28: =+'Exhibit I - no Z rows'!A29 -> Interest | B28: 0 | C28: 0 | D28: =+'Exhibit I - no Z rows'!D29 -> 202047.68 | E28: =+'Exhibit I - no Z rows'!E29 -> 202047.68
A29: =+'Exhibit I - no Z rows'!A30 -> Interfund Payable | B29: =+'Exhibit I - no Z rows'!B30 -> 3942733 | C29: 0 | D29: 0 | E29: =+'Exhibit I - no Z rows'!E30 -> 3942733
A30: =+'Exhibit I - no Z rows'!A31 -> Investment Trade Payable | B30: =+'Exhibit I - no Z rows'!B31 -> 31923132 | C30: 0 | D30: =+'Exhibit I - no Z rows'!D31 -> 6243.7 | E30: =+'Exhibit I - no Z rows'!E31 -> 31929376
A31: =+'Exhibit I - no Z rows'!A32 -> Other Intergovernmental | B31: =+'Exhibit I - no Z rows'!B32 -> 27318651 | C31: 0 | D31: 0 | E31: =+'Exhibit I - no Z rows'!E32 -> 27318651
A32: =+'Exhibit I - no Z rows'!A33 -> Taxes Refund Payable | B32: =+'Exhibit I - no Z rows'!B33 -> 3.5608978e+08 | C32: 0 | D32: 0 | E32: =+'Exhibit I - no Z rows'!E33 -> 3.5608978e+08
A33: =+'Exhibit I - no Z rows'!A34 -> Other | B33: =+'Exhibit I - no Z rows'!B34 -> 3.3401025e+08 | C33: 0 | D33: 0 | E33: =+'Exhibit I - no Z rows'!E34 -> 3.3401025e+08
A34: =+'Exhibit I - no Z rows'!A35 -> Due To Other Agencies | B34: =+'Exhibit I - no Z rows'!B35 -> 4.9996515e+09 | C34: 0 | D34: =+'Exhibit I - no Z rows'!D35 -> 2754005.6 | E34: =+'Exhibit I - no Z rows'!E35 -> 5.0024055e+09
A35: =+'Exhibit I - no Z rows'!A36 -> Unearned Revenues | B35: =+'Exhibit I - no Z rows'!B36 -> 4.3241054e+08 | C35: 0 | D35: 0 | E35: =+'Exhibit I - no Z rows'!E36 -> 4.3241054e+08
A36: =+'Exhibit I - no Z rows'!A37 -> Total Current Liabilities | B36: =+'Exhibit I - no Z rows'!B37 -> 6.2060989e+09 | C36: =+'Exhibit I - no Z rows'!C37 -> 165549.8 | D36: =+'Exhibit I - no Z rows'!D37 -> 3343587.2 | E36: =+'Exhibit I - no Z rows'!E37 -> 6.209608e+09
A37: =+'Exhibit I - no Z rows'!A38 -> Total Liabilities | B37: =+'Exhibit I - no Z rows'!B38 -> 6.2060989e+09 | C37: =+'Exhibit I - no Z rows'!C38 -> 165549.8 | D37: =+'Exhibit I - no Z rows'!D38 -> 3343587.2 | E37: =+'Exhibit I - no Z rows'!E38 -> 6.209608e+09
A38: =+'Exhibit I - no Z rows'!A40 -> DEFERRED INFLOWS
A39: =+'Exhibit I - no Z rows'!A41 -> Deferred Inflows of Resources (Note 29) | B39: 0 | C39: =+'Exhibit I - no Z rows'!C41 -> 9.8244004e+08 | D39: 0 | E39: =+'Exhibit I - no Z rows'!E41 -> 9.8244004e+08
A40: =+'Exhibit I - no Z rows'!A42 -> Total Deferred Inflows | B40: 0 | C40: =+'Exhibit I - no Z rows'!C42 -> 9.8244004e+08 | D40: 0 | E40: =+'Exhibit I - no Z rows'!E42 -> 9.8244004e+08
...

Sheet Exhibit II
A1: Agency 902 EXHIBIT II Combined Statement of Revenues, Expenditures and Changes in Fund Balances – Governmental Funds
A2: For the Fiscal Year Ended August 31, 2025
A3: Governmental Fund Types
A4: Financial Statement Line Items | B4: General Funds (Exhibit A-2) | C4: Special Revenue Funds Exhibit B-2) | D4: Permanent Funds (Exhibit C-2) | E4: Governmental Funds Total
A5: =+'Exhibit II no Z rows'!A2 -> REVENUES
A6: =+'Exhibit II no Z rows'!A3 -> Taxes (GR) | B6: =+'Exhibit II no Z rows'!B3 -> 7.452797e+10 | C6: =+'Exhibit II no Z rows'!C3 -> 4.7793309e+09 | D6: 0 | E6: =+'Exhibit II no Z rows'!E3 -> 7.93073e+10
A7: =+'Exhibit II no Z rows'!A4 -> License, Fees & Permits (PR) | B7: =+'Exhibit II no Z rows'!B4 -> 1.5796935e+09 | C7: 0 | D7: 0 | E7: =+'Exhibit II no Z rows'!E4 -> 1.5796935e+09
A8: =+'Exhibit II no Z rows'!A5 -> Interest and Other Investment Income (PR) | B8: =+'Exhibit II no Z rows'!B5 -> -24825356 | C8: 0 | D8: 0 | E8: =+'Exhibit II no Z rows'!E5 -> -24825356
A9: =+'Exhibit II no Z rows'!A6 -> Interest and Other Investment Income (GR) | B9: =+'Exhibit II no Z rows'!B6 -> 2.2605459e+09 | C9: =+'Exhibit II no Z rows'!C6 -> 5179656.7 | D9: =+'Exhibit II no Z rows'!D6 -> 10494221 | E9: =+'Exhibit II no Z rows'!E6 -> 2.2762198e+09
A10: =+'Exhibit II no Z rows'!A7 -> Net Increase (Decrease) in Fair Value (GR) | B10: =+'Exhibit II no Z rows'!B7 -> 6.645912e+08 | C10: 0 | D10: =+'Exhibit II no Z rows'!D7 -> 48173288 | E10: =+'Exhibit II no Z rows'!E7 -> 7.1276449e+08
A11: =+'Exhibit II no Z rows'!A8 -> Land Income (PR) | B11: =+'Exhibit II no Z rows'!B8 -> 4974757.5 | C11: 0 | D11: 0 | E11: =+'Exhibit II no Z rows'!E8 -> 4974757.5
A12: =+'Exhibit II no Z rows'!A9 -> Settlement of Claims (GR) | B12: =+'Exhibit II no Z rows'!B9 -> 8.0384368e+08 | C12: 0 | D12: 0 | E12: =+'Exhibit II no Z rows'!E9 -> 8.0384368e+08
A13: =+'Exhibit II no Z rows'!A10 -> Sales of Goods and Services (PR) | B13: =+'Exhibit II no Z rows'!B10 -> 33319189 | C13: 0 | D13: 0 | E13: =+'Exhibit II no Z rows'!E10 -> 33319189
A14: =+'Exhibit II no Z rows'!A11 -> Other (GR) | B14: =+'Exhibit II no Z rows'!B11 -> 1.6745232e+09 | C14: =+'Exhibit II no Z rows'!C11 -> 46218548 | D14: =+'Exhibit II no Z rows'!D11 -> 1.9408618e+08 | E14: =+'Exhibit II no Z rows'!E11 -> 1.9148279e+09
A15: =+'Exhibit II no Z rows'!A12 -> Total Revenues | B15: =+'Exhibit II no Z rows'!B12 -> 8.1524636e+10 | C15: =+'Exhibit II no Z rows'!C12 -> 4.8307291e+09 | D15: =+'Exhibit II no Z rows'!D12 -> 2.5275369e+08 | E15: =+'Exhibit II no Z rows'!E12 -> 8.6608118e+10
A16: =+'Exhibit II no Z rows'!A14 -> EXPENDITURES
A17: =+'Exhibit II no Z rows'!A15 -> Salaries And Wages | B17: =+'Exhibit II no Z rows'!B15 -> 684782.56 | C17: 0 | D17: 0 | E17: =+'Exhibit II no Z rows'!E15 -> 684782.56
A18: =+'Exhibit II no Z rows'!A16 -> Payroll Related Costs | B18: =+'Exhibit II no Z rows'!B16 -> 1.4015663e+09 | C18: 0 | D18: 0 | E18: =+'Exhibit II no Z rows'!E16 -> 1.4015663e+09
A19: =+'Exhibit II no Z rows'!A17 -> Professional Fees and Services | B19: =+'Exhibit II no Z rows'!B17 -> 16233029 | C19: =+'Exhibit II no Z rows'!C17 -> 1614414 | D19: =+'Exhibit II no Z rows'!D17 -> 989035.33 | E19: =+'Exhibit II no Z rows'!E17 -> 18836479
A20: =+'Exhibit II no Z rows'!A18 -> Travel | B20: =+'Exhibit II no Z rows'!B18 -> 19535.04 | C20: 0 | D20: 0 | E20: =+'Exhibit II no Z rows'!E18 -> 19535.04
A21: =+'Exhibit II no Z rows'!A19 -> Materials and Supplies | B21: =+'Exhibit II no Z rows'!B19 -> 15326.49 | C21: 0 | D21: 0 | E21: =+'Exhibit II no Z rows'!E19 -> 15326.49
A22: =+'Exhibit II no Z rows'!A20 -> Communications and Utilities | B22: =+'Exhibit II no Z rows'!B20 -> 862929.59 | C22: 0 | D22: 0 | E22: =+'Exhibit II no Z rows'!E20 -> 862929.59
A23: =+'Exhibit II no Z rows'!A21 -> Repairs and Maintenance | B23: =+'Exhibit II no Z rows'!B21 -> 103451.46 | C23: 0 | D23: 0 | E23: =+'Exhibit II no Z rows'!E21 -> 103451.46
A24: =+'Exhibit II no Z rows'!A22 -> Claims and Judgments | B24: =+'Exhibit II no Z rows'!B22 -> 26818867 | C24: =+'Exhibit II no Z rows'!C22 -> 81168.23 | D24: 0 | E24: =+'Exhibit II no Z rows'!E22 -> 26900036
A25: =+'Exhibit II no Z rows'!A23 -> Intergovernmental Payments | B25: =+'Exhibit II no Z rows'!B23 -> 7.1851985e+08 | C25: =+'Exhibit II no Z rows'!C23 -> 52372288 | D25: =+'Exhibit II no Z rows'!D23 -> 640855 | E25: =+'Exhibit II no Z rows'!E23 -> 7.71533e+08
A26: =+'Exhibit II no Z rows'!A24 -> Interest Expense - Other | B26: =+'Exhibit II no Z rows'!B24 -> 81191806 | C26: 0 | D26: 0 | E26: =+'Exhibit II no Z rows'!E24 -> 81191806
A27: =+'Exhibit II no Z rows'!A25 -> Other Expenditures | B27: =+'Exhibit II no Z rows'!B25 -> 1.3266203e+09 | C27: =+'Exhibit II no Z rows'!C25 -> 5202.44 | D27: 0 | E27: =+'Exhibit II no Z rows'!E25 -> 1.3266255e+09
A28: =+'Exhibit II no Z rows'!A26 -> Interest | B28: =+'Exhibit II no Z rows'!B26 -> 118849.68 | C28: 0 | D28: 0 | E28: =+'Exhibit II no Z rows'!E26 -> 118849.68
A29: =+'Exhibit II no Z rows'!A27 -> Total Expenditures | B29: =+'Exhibit II no Z rows'!B27 -> 3.5727551e+09 | C29: =+'Exhibit II no Z rows'!C27 -> 54073073 | D29: =+'Exhibit II no Z rows'!D27 -> 1629890.3 | E29: =+'Exhibit II no Z rows'!E27 -> 3.628458e+09
A30: =+'Exhibit II no Z rows'!A29 -> Excess (Deficiency) of Revenues over Expenditures | B30: =+'Exhibit II no Z rows'!B29 -> 7.7951881e+10 | C30: =+'Exhibit II no Z rows'!C29 -> 4.7766561e+09 | D30: =+'Exhibit II no Z rows'!D29 -> 2.511238e+08 | E30: =+'Exhibit II no Z rows'!E29 -> 8.297966e+10
A31: =+'Exhibit II no Z rows'!A31 -> OTHER FINANCING SOURCES (USES)
A32: =+'Exhibit II no Z rows'!A32 -> Transfer In | B32: =+'Exhibit II no Z rows'!B32 -> 7.4541723e+09 | C32: =+'Exhibit II no Z rows'!C32 -> 6.1532329e+09 | D32: =+'Exhibit II no Z rows'!D32 -> 1.5185752e+08 | E32: =+'Exhibit II no Z rows'!E32 -> 1.3759263e+10
A33: =+'Exhibit II no Z rows'!A33 -> Transfer Out | B33: -3.3837277e+10 | C33: =+'Exhibit II no Z rows'!C33 -> -1.0937237e+10 | D33: =+'Exhibit II no Z rows'!D33 -> -2.1108453e+08 | E33: -44985598234
A34: =+'Exhibit II no Z rows'!A34 -> Legislative Transfer Out | B34: -4.1912534e+10 | C34: 0 | D34: 0 | E34: -4.1912534e+10
A35: =+'Exhibit II no Z rows'!A35 -> Sale of Capital Assets | B35: =+'Exhibit II no Z rows'!B35 -> 31526.9 | C35: 0 | D35: 0 | E35: =+'Exhibit II no Z rows'!E35 -> 31526.9
A36: =+'Exhibit II no Z rows'!A36 -> Contributions to permanent foundation principal | B36: 0 | C36: 0 | D36: =+'Exhibit II no Z rows'!D36 -> -25209796 | E36: =+'Exhibit II no Z rows'!E36 -> -25209796
A37: =+'Exhibit II no Z rows'!A37 -> Insurance Recoveries | B37: =+'Exhibit II no Z rows'!B37 -> 91386.88 | C37: 0 | D37: 0 | E37: =+'Exhibit II no Z rows'!E37 -> 91386.88
A38: =+'Exhibit II no Z rows'!A38 -> Total Other Financing Sources (Uses) | B38: -6.8295515e+10 | C38: =+'Exhibit II no Z rows'!C38 -> -4.7840041e+09 | D38: =+'Exhibit II no Z rows'!D38 -> -84436804 | E38: -7.3163956e+10
A40: =+'Exhibit II no Z rows'!A40 -> Net Change in Fund Balances | B40: 9.6563652e+09 | C40: =+'Exhibit II no Z rows'!C40 -> -7348065.5 | D40: =+'Exhibit II no Z rows'!D40 -> 1.6668699e+08 | E40: 9.8157042e+09
A41: =+'Exhibit II no Z rows'!A42 -> FUND FINANCIAL STATEMENT – FUND BALANCES
...

Sheet Exhibit VI
A1: Agency 902 EXHIBIT VI Combined Statement of Fiduciary Net Position Fiduciary Funds
A2: August 31, 2025
A3: Financial Statement Line Items | B3: Private Purpose Trust Funds (Exhibit I-1) | C3: Custodial Funds (Exhibit J-1) | D3: Total (Exhibit VI) 2025
A4: =+'Exhibit VI no Z rows'!A2 -> ASSETS
A5: =+'Exhibit VI no Z rows'!A3 -> Cash and Cash Equivalents (Note 3):
A6: =+'Exhibit VI no Z rows'!A4 -> Cash in State Treasury | B6: =+'Exhibit VI no Z rows'!B4 -> 3492254.5 | C6: =+'Exhibit VI no Z rows'!C4 -> 1.7965965e+09 | D6: =+'Exhibit VI no Z rows'!D4 -> 1.8000887e+09
A7: =+'Exhibit VI no Z rows'!A5 -> Receivables:
A8: =+'Exhibit VI no Z rows'!A6 -> Federal | B8: =+'Exhibit VI no Z rows'!B6 -> 2832867.8 | C8: 0 | D8: =+'Exhibit VI no Z rows'!D6 -> 2832867.8
A9: =+'Exhibit VI no Z rows'!A7 -> Interest and Dividends | B9: =+'Exhibit VI no Z rows'!B7 -> 12485.85 | C9: 0 | D9: =+'Exhibit VI no Z rows'!D7 -> 12485.85
A10: =+'Exhibit VI no Z rows'!A8 -> Total Assets | B10: 6337608.1 | C10: 1.7965965e+09 | D10: 1.8029341e+09
A11: Liabilities
A12: Accounts Payable | B12: 0 | C12: 0 | D12: 0
A13: Total Liabilities | B13: 0 | C13: 0 | D13: 0
A14: =+'Exhibit VI no Z rows'!A9 -> NET POSITION
A15: =+'Exhibit VI no Z rows'!A10 -> Fiduciary NP Other Purposes | B15: 6337608.1 | C15: 1.7965965e+09 | D15: 1.8029341e+09
A16: =+'Exhibit VI no Z rows'!A11 -> Total Net Position | B16: =+'Exhibit VI no Z rows'!B11 -> 6337608.1 | C16: =+'Exhibit VI no Z rows'!C11 -> 1.7965965e+09 | D16: =+'Exhibit VI no Z rows'!D11 -> 1.8029341e+09
A17: =+'Exhibit VI no Z rows'!A12 -> The accompanying notes to the financial statements are an integral part of this statement.
A18: Return to TOC
A19: End of Sheet

Sheet Exhibit VII
A1: Agency 902 Exhibit VII Combined Statement of Changes in Fiduciary Net Position Fiduciary Funds
A2: For the Fiscal Year Ended August 31, 2025
A3: Financial Statement Line Items | B3: Private Purpose Trust Funds (Exhibit I-2) | C3: Custodial Funds (Exhibit J-2) | D3: Total (Exhibit VII) 2025
A4: =+'[1]Exhibit VII no Z rows'!A2 -> ADDITIONS
A5: =+'[1]Exhibit VII no Z rows'!A3 -> Contributions:
A6: =+'[1]Exhibit VII no Z rows'!A4 -> Federal Contributions | B6: =+'[1]Exhibit VII no Z rows'!B4 -> 3685942 | C6: 0 | D6: =+'[1]Exhibit VII no Z rows'!D4 -> 3685942
A7: =+'[1]Exhibit VII no Z rows'!A5 -> Total Contributions | B7: =+'[1]Exhibit VII no Z rows'!B5 -> 3685942 | C7: 0 | D7: =+'[1]Exhibit VII no Z rows'!D5 -> 3685942
A8: =+'[1]Exhibit VII no Z rows'!A6 -> Investment Income:
A9: =+'[1]Exhibit VII no Z rows'!A7 -> From Investing Activities:
A10: =+'[1]Exhibit VII no Z rows'!A8 -> Interest, Dividend and Other | B10: =+'[1]Exhibit VII no Z rows'!B8 -> 154877.66 | C10: =+'[1]Exhibit VII no Z rows'!C8 -> 11364029 | D10: =+'[1]Exhibit VII no Z rows'!D8 -> 11518906
A11: =+'[1]Exhibit VII no Z rows'!A9 -> Total Investing Income (Loss) | B11: =+'[1]Exhibit VII no Z rows'!B9 -> 154877.66 | C11: =+'[1]Exhibit VII no Z rows'!C9 -> 11364029 | D11: =+'[1]Exhibit VII no Z rows'!D9 -> 11518906
A12: =+'[1]Exhibit VII no Z rows'!A10 -> Net Income from Investing Activities | B12: =+'[1]Exhibit VII no Z rows'!B10 -> 154877.66 | C12: =+'[1]Exhibit VII no Z rows'!C10 -> 11364029 | D12: =+'[1]Exhibit VII no Z rows'!D10 -> 11518906
A13: =+'[1]Exhibit VII no Z rows'!A11 -> Total Net Investment Income (Loss) | B13: =+'[1]Exhibit VII no Z rows'!B11 -> 154877.66 | C13: =+'[1]Exhibit VII no Z rows'!C11 -> 11364029 | D13: =+'[1]Exhibit VII no Z rows'!D11 -> 11518906
A14: =+'[1]Exhibit VII no Z rows'!A12 -> Other Additions:
A15: =+'[1]Exhibit VII no Z rows'!A13 -> Other Revenue | B15: 0 | C15: =+'[1]Exhibit VII no Z rows'!C13 -> 1.4298696e+10 | D15: =+'[1]Exhibit VII no Z rows'!D13 -> 1.4298696e+10
A16: =+'[1]Exhibit VII no Z rows'!A14 -> Transfer In | B16: =+'[1]Exhibit VII no Z rows'!B14 -> 109001180 | C16: 0 | D16: =+'[1]Exhibit VII no Z rows'!D14 -> 109001180
A17: =+'[1]Exhibit VII no Z rows'!A15 -> Total Other Additions | B17: =+'[1]Exhibit VII no Z rows'!B15 -> 109001180 | C17: =+'[1]Exhibit VII no Z rows'!C15 -> 1.4298696e+10 | D17: =+'[1]Exhibit VII no Z rows'!D15 -> 1.4407697e+10
A18: =+'[1]Exhibit VII no Z rows'!A16 -> Total Additions | B18: =+'[1]Exhibit VII no Z rows'!B16 -> 1.12842e+08 | C18: =+'[1]Exhibit VII no Z rows'!C16 -> 1.431006e+10 | D18: =+'[1]Exhibit VII no Z rows'!D16 -> 1.4422902e+10
A19: =+'[1]Exhibit VII no Z rows'!A17 -> DEDUCTIONS
A20: =+'[1]Exhibit VII no Z rows'!A18 -> Interest Expense | B20: 0 | C20: =+'[1]Exhibit VII no Z rows'!C18 -> 11071771 | D20: =+'[1]Exhibit VII no Z rows'!D18 -> 11071771
A21: =+'[1]Exhibit VII no Z rows'!A19 -> Intergovernmental Payments | B21: =+'[1]Exhibit VII no Z rows'!B19 -> 1.1390995e+08 | C21: =+'[1]Exhibit VII no Z rows'!C19 -> 1.4219961e+10 | D21: =+'[1]Exhibit VII no Z rows'!D19 -> 1.4333871e+10
A22: =+'[1]Exhibit VII no Z rows'!A20 -> Total Deductions | B22: =+'[1]Exhibit VII no Z rows'!B20 -> 1.1390995e+08 | C22: =+'[1]Exhibit VII no Z rows'!C20 -> 1.4231033e+10 | D22: =+'[1]Exhibit VII no Z rows'!D20 -> 1.4344943e+10
A23: =+'[1]Exhibit VII no Z rows'!A21 -> INCREASE (DECREASE) IN NET POSITION | B23: =+'[1]Exhibit VII no Z rows'!B21 -> -1067949.7 | C23: =+'[1]Exhibit VII no Z rows'!C21 -> 79027441 | D23: =+'[1]Exhibit VII no Z rows'!D21 -> 77959492
A24: =+'[1]Exhibit VII no Z rows'!A22 -> NET POSITION
A25: =+'[1]Exhibit VII no Z rows'!A23 -> Net Position, September 1, 2024 | B25: =+'[1]Exhibit VII no Z rows'!B23 -> 7405557.8 | C25: =+'[1]Exhibit VII no Z rows'!C23 -> 1.717569e+09 | D25: =+'[1]Exhibit VII no Z rows'!D23 -> 1.7249746e+09
A26: =+'[1]Exhibit VII no Z rows'!A24 -> Net Position, September 1, 2024, as Restated | B26: =+'[1]Exhibit VII no Z rows'!B24 -> 7405557.8 | C26: =+'[1]Exhibit VII no Z rows'!C24 -> 1.717569e+09 | D26: =+'[1]Exhibit VII no Z rows'!D24 -> 1.7249746e+09
A27: =+'[1]Exhibit VII no Z rows'!A25 -> Net Position, August 31, 2025 | B27: =+'[1]Exhibit VII no Z rows'!B25 -> 6337608.1 | C27: =+'[1]Exhibit VII no Z rows'!C25 -> 1.7965965e+09 | D27: =+'[1]Exhibit VII no Z rows'!D25 -> 1.8029341e+09
A28: =+'[1]Exhibit VII no Z rows'!A26 -> The accompanying notes to the financial statements are an integral part of this statement.
A29: Return to TOC
A30: End of Sheet

Sheet Note 2 Capital Assets
A1: Note 2: Capital Assets
A2: Financial Statement Line Items | B2: Balance as of Sept. 1, 2024 | C2: Adjustments | D2: Reclassification | E2: Additions | F2: Deletions | G2: Balance as of Aug. 31, 2025
A3: Depreciable Assets
A4: Furniture and Equipment | B4: 276704.43 | C4: 0 | D4: 0 | E4: 0 | F4: 0 | G4: 276704.43
A5: Less Accumulated Depreciation | B5: -276704.43 | C5: 0 | D5: 0 | E5: 0 | F5: 0 | G5: -276704.43
A6: Depreciable Assets, Net | B6: =+B4+B5 -> 0 | C6: =+C4+C5 -> 0 | D6: =+D4+D5 -> 0 | E6: =+E4+E5 -> 0 | F6: =+F4+F5 -> 0 | G6: =+G4+G5 -> 0
A7: Computer Software | B7: 3207683.9 | C7: 0 | D7: 0 | E7: 0 | F7: 0 | G7: 3207683.9
A8: Less Accumulated Amortization | B8: -3207683.9 | C8: 0 | D8: 0 | E8: 0 | F8: 0 | G8: -3207683.9
A9: Amortizable Assets, Net | B9: =+B7+B8 -> 0 | C9: =+C7+C8 -> 0 | D9: =+D7+D8 -> 0 | E9: =+E7+E8 -> 0 | F9: =+F7+F8 -> 0 | G9: =+G7+G8 -> 0
A10: Total Capital Assets | B10: =+B6+B9 -> 0 | C10: =+C6+C9 -> 0 | D10: =+D6+D9 -> 0 | E10: =+E6+E9 -> 0 | F10: =+F6+F9 -> 0 | G10: =+G6+G9 -> 0
A11: Return to TOC
A12: End of Sheet

Sheet Note 3 Deposits of Cash in Bank
B1: Note 3: Deposits of Cash In Bank
B2: GOVERNMENTAL AND BUSINESS TYPE ACTIVITIES | C2: Amount
B3: Cash in Bank - Carrying Amount | C3: 18689014
B4: Total Cash in Bank, per AFR (Exhibit I) | C4: =C3 -> 18689014
B5: Return to TOC
B6: End of Sheet

Sheet Note 3 Investments
A1: Note 3 Investments
A2: Fair Value
A3: Special Revenue Fund -Unclaimed Property (0001/4113) | B3: Level 1 Inputs | C3: Level 2 Inputs | D3: Level 3 Inputs | E3: Amortized Cost | F3: Net Asset Value | G3: Fair Value
A4: U.S. Government Treasuries | B4: 0 | C4: 47032.7 | D4: 0 | E4: 0 | F4: 0 | G4: =SUM(B4:F4) -> 47032.7
A5: U.S. Government Agency Obligations | B5: 0 | C5: 11296.89 | D5: 0 | E5: 0 | F5: 0 | G5: =SUM(B5:F5) -> 11296.89
A6: Government Sponsored Enterprises | B6: 0 | C6: 22598.21 | D6: 0 | E6: 0 | F6: 0 | G6: =SUM(B6:F6) -> 22598.21
A7: Non-Agency Collateral Mortgage Obligations | B7: 0 | C7: 7686.8 | D7: 0 | E7: 0 | F7: 0 | G7: =SUM(B7:F7) -> 7686.8
A8: Corporate Obligations | B8: 0 | C8: 173502.72 | D8: 0 | E8: 0 | F8: 0 | G8: =SUM(B8:F8) -> 173502.72
A9: Political Subdivisions | B9: 0 | C9: 573686.45 | D9: 0 | E9: 0 | F9: 0 | G9: =SUM(B9:F9) -> 573686.45
A10: Equity | B10: 6.0281035e+08 | C10: 0 | D10: 0 | E10: 0 | F10: 0 | G10: =SUM(B10:F10) -> 6.0281035e+08
A11: Fixed Income Money Market and Bond Mutual Funds | B11: 12389313 | C11: 0 | D11: 0 | E11: 0 | F11: 0 | G11: =SUM(B11:F11) -> 12389313
A12: Categorized | B12: =SUM(B4:B11) -> 6.1519966e+08 | C12: =SUM(C4:C11) -> 835803.77 | D12: 0 | E12: 0 | F12: 0 | G12: =SUM(G4:G11) -> 6.1603546e+08
A13: Externally Managed Investments | B13: 0 | C13: 0 | D13: 0 | E13: 0 | F13: 39117.35 | G13: =SUM(B13:F13) -> 39117.35
A14: Mutual Funds | B14: 3.594193e+08 | C14: 0 | D14: 0 | E14: 0 | F14: 0 | G14: =SUM(B14:F14) -> 3.594193e+08
A15: Real Estate Investment Trust Fund | B15: 0 | C15: 480433.48 | D15: 0 | E15: 0 | F15: 0 | G15: =SUM(B15:F15) -> 480433.48
A16: Uncategorized | B16: =SUM(B13:B15) -> 3.594193e+08 | C16: =SUM(C13:C15) -> 480433.48 | D16: 0 | E16: 0 | F16: =SUM(F13:F15) -> 39117.35 | G16: =SUM(G13:G15) -> 3.5993885e+08
A17: Total | B17: =B12+B16 -> 9.7461896e+08 | C17: =C12+C16 -> 1316237.2 | D17: 0 | E17: 0 | F17: =F12+F16 -> 39117.35 | G17: =G12+G16 -> 9.7597431e+08
A18: Fair Value
A19: Permanent Fund - Supporting Graduate Education (0179/1179) | B19: Level 1 Inputs | C19: Level 2 Inputs | D19: Level 3 Inputs | E19: Amortized Cost | F19: Net Asset Value | G19: Fair Value
A20: Fixed Income Money Market and Bond Mutual Funds | B20: 13060389 | C20: 0 | D20: 0 | E20: 0 | F20: 0 | G20: =SUM(B20:F20) -> 13060389
A21: Equity | B21: =28987599.82+1358344.26+0.02 -> 30345944 | C21: 0 | D21: 0 | E21: 0 | F21: 0 | G21: =SUM(B21:F21) -> 30345944
A22: Externally Managed Investments | B22: 0 | C22: 363205.86 | D22: 0 | E22: 0 | F22: 4.1255868e+08 | G22: =SUM(B22:F22) -> 4.1292189e+08
A23: Pooled Investments | B23: 0 | C23: 17147224 | D23: 0 | E23: 0 | F23: 0 | G23: =SUM(B23:F23) -> 17147224
A24: Total | B24: =SUM(B20:B23) -> 43406333 | C24: =SUM(C20:C23) -> 17510430 | D24: 0 | E24: 0 | F24: =SUM(F20:F23) -> 4.1255868e+08 | G24: =SUM(G20:G23) -> 4.7347544e+08
A25: Fair Value
A26: Permanent Fund - Supporting Military & Veterans Exemptions (0210/1210) | B26: Level 1 Inputs | C26: Level 2 Inputs | D26: Level 3 Inputs | E26: Amortized Cost | F26: Net Asset Value | G26: Fair Value
A27: Fixed Income Money Market and Bond Mutual Funds | B27: 11069850 | C27: 0 | D27: 0 | E27: 0 | F27: 0 | G27: =SUM(B27:F27) -> 11069850
A28: Equity | B28: =19661526.27+921329.18 -> 20582855 | C28: 0 | D28: 0 | E28: 0 | F28: 0 | G28: =SUM(B28:F28) -> 20582855
A29: Externally Managed Investments | B29: 0 | C29: 246352.98 | D29: 0 | E29: 0 | F29: 3.0963942e+08 | G29: =SUM(B29:F29) -> 3.0988577e+08
A30: Pooled Investments | B30: 0 | C30: 11630511 | D30: 0 | E30: 0 | F30: 0 | G30: =SUM(B30:F30) -> 11630511
A31: Total | B31: =SUM(B27:B30) -> 31652706 | C31: =SUM(C27:C30) -> 11876864 | D31: 0 | E31: 0 | F31: =SUM(F27:F30) -> 3.0963942e+08 | G31: =SUM(G27:G30) -> 3.5316899e+08
A32: Fair Value
A33: General Fund - Economic Stabilization Fund (0599/5991) | B33: Level 1 Inputs | C33: Level 2 Inputs | D33: Level 3 Inputs | E33: Amortized Cost | F33: Net Asset Value | G33: Fair Value
A34: Fixed Income Money Market and Bond Mutual Funds | B34: 3.19737e+08 | C34: 0 | D34: 0 | E34: 0 | F34: 0 | G34: =SUM(B34:F34) -> 3.19737e+08
A35: Equity | B35: 2.7186342e+08 | C35: 0 | D35: 0 | E35: 0 | F35: 0 | G35: =SUM(B35:F35) -> 2.7186342e+08
A36: Externally Managed Investments | B36: 0 | C36: 0 | D36: 0 | E36: 0 | F36: 3.053186e+09 | G36: =SUM(B36:F36) -> 3.053186e+09
A37: Global Fixed Income - Mutual Funds | B37: 1.1205767e+10 | C37: 0 | D37: 0 | E37: 0 | F37: 0 | G37: =SUM(B37:F37) -> 1.1205767e+10
A38: Pooled Investments | B38: =1059151155.28+1073900262.03+524190496.53+28201817.41+211582142.83 -> 2.8970259e+09 | C38: 3.6666749e+09 | D38: 0 | E38: 0 | F38: 0 | G38: =SUM(B38:F38) -> 6.5637008e+09
A39: Total | B39: =SUM(B34:B38) -> 1.4694393e+10 | C39: =SUM(C34:C38) -> 3.6666749e+09 | D39: 0 | E39: 0 | F39: =SUM(F34:F38) -> 3.053186e+09 | G39: =SUM(G34:G38) -> 2.1414254e+10
A40: Return to TOC
...

Sheet Note 3 Credit Risk
A1: Note 3: Credit Risk
A2: Standard & Poor's
A3: Fund Type | B3: GAAP Fund | C3: Investment Type | D3: Market Value | E3: AAA | F3: AA | G3: A | H3: BBB
A4: 02 | B4: 0001 | C4: Asset Back Security | D4: 0 | E4: 0 | F4: 0 | G4: 0 | H4: 0
A5: 02 | B5: 0001 | C5: U.S. Government Treasuries | D5: =E5+F5+G5+H5+D39+E39+F39+G39+H39 -> 47032.7 | E5: 0 | F5: 47032.7 | G5: 0 | H5: 0
A6: 02 | B6: 0001 | C6: U.S. Government Agencies | D6: =E6+F6+G6+H6+D40+E40+F40+G40+H40 -> 11296.89 | E6: 0 | F6: 11296.89 | G6: 0 | H6: 0
A7: 02 | B7: 0001 | C7: REFCo Strip | D7: =E7+F7+G7+H7+D41+E41+F41+G41+H41 -> 0 | E7: 0 | F7: 0 | G7: 0 | H7: 0
A8: 02 | B8: 0001 | C8: Govt Mortgage Backed Securities | D8: =E8+F8+G8+H8+D42+E42+F42+G42+H42 -> 22598.21 | E8: 0 | F8: 0 | G8: 0 | H8: 0
A9: 02 | B9: 0001 | C9: Non Agency Collateral Mortgage Obligation | D9: =E9+F9+G9+H9+D43+E43+F43+G43+H43 -> 7686.8 | E9: 0 | F9: 0 | G9: 921.28 | H9: 0
A10: 02 | B10: 0001 | C10: Certificates of Deposit | D10: =E10+F10+G10+H10+D44+E44+F44+G44+H44 -> 0 | E10: 0 | F10: 0 | G10: 0 | H10: 0
A11: 02 | B11: 0001 | C11: Corporate Obligations | D11: =E11+F11+G11+H11+D45+E45+F45+G45+H45 -> 173502.72 | E11: 2099.44 | F11: 23897.32 | G11: 44707.14 | H11: 67359.75
A12: 02 | B12: 0001 | C12: Political Subdivisions | D12: =E12+F12+G12+H12+D46+E46+F46+G46+H46 -> 573686.45 | E12: 167678.6 | F12: 242852.5 | G12: 118636.6 | H12: 0
A13: 02 | B13: 0001 | C13: Mutual Funds | D13: =E13+F13+G13+H13+D47+E47+F47+G47+H47 -> 3.7180861e+08 | E13: 0 | F13: 0 | G13: 0 | H13: 0
A14: 02 | B14: 0001 | C14: Totals | D14: =SUM(D4:D13) -> 3.7264442e+08 | E14: =SUM(E4:E13) -> 169778.04 | F14: =SUM(F4:F13) -> 325079.41 | G14: =SUM(G4:G13) -> 164265.02 | H14: =SUM(H4:H13) -> 67359.75
A15: 19 | B15: 0179 | C15: Corporate Obligations | D15: =+E15+F15+G15+D49+E49+F49+G49 -> 0 | E15: 0 | F15: 0 | G15: 0 | H15: 0
A16: 19 | B16: 0179 | C16: Mutual Funds – Global Fixed Income | D16: 0 | E16: 0 | F16: 0 | G16: 0 | H16: 0
A17: 19 | B17: 0179 | C17: Mutual Funds – Domestic Fixed Income | D17: 0 | E17: 0 | F17: 0 | G17: 0 | H17: 0
A18: 19 | B18: 0179 | C18: Investments in STIF | D18: 13060389 | E18: 13060389 | F18: 0 | G18: 0 | H18: 0
A19: 19 | B19: 0179 | C19: Repurchase Agreements | D19: 0 | E19: 0 | F19: 0 | G19: 0 | H19: 0
A20: 19 | B20: 0179 | C20: Totals | D20: =SUM(D15:D19) -> 13060389 | E20: =SUM(E15:E19) -> 13060389 | F20: =SUM(F15:F19) -> 0 | G20: =SUM(G15:G19) -> 0 | H20: =SUM(H15:H19) -> 0
A21: 19 | B21: 0210 | C21: Corporate Obligations | D21: =+E21+F21+G21+D55+E55+F55+G55 -> 0 | E21: =+F21+G21+I21+E55+F55+G55+I55 -> 0 | F21: =+G21+I21+K21+F55+G55+I55+K55 -> 0 | G21: =+I21+K21+M21+G55+I55+K55+M55 -> 0 | H21: 0
A22: 19 | B22: 0210 | C22: Mutual Fund – Global Fixed Income | D22: 0 | E22: 0 | F22: 0 | G22: 0 | H22: 0
A23: 19 | B23: 0210 | C23: Mutual Fund – Domestic Fixed Income | D23: 0 | E23: 0 | F23: 0 | G23: 0 | H23: 0
A24: 19 | B24: 0210 | C24: Investments in STIF | D24: =E24 -> 11069850 | E24: 11069850 | F24: 0 | G24: 0 | H24: 0
A25: 19 | B25: 0210 | C25: Repurchase Agreements | D25: 0 | E25: 0 | F25: 0 | G25: 0 | H25: 0
A26: 19 | B26: 0210 | C26: Totals | D26: =SUM(D21:D25) -> 11069850 | E26: =SUM(E21:E25) -> 11069850 | F26: =SUM(F21:F25) -> 0 | G26: =SUM(G21:G25) -> 0 | H26: =SUM(H21:H25) -> 0
A27: 01 | B27: 0599 | C27: Corporate Asset and Mortgage Back Obligations | D27: =E27+F27+G27+H27+D61+E61+F61+G61+H61 -> 9.2751315e+08 | E27: 2.3323937e+08 | F27: 4.3898267e+08 | G27: 6096536.2 | H27: 36528944
A28: 01 | B28: 0599 | C28: Corporate Obligations | D28: =E28+F28+G28+H28+D62+E62+F62+G62 -> 1.0491068e+09 | E28: 0 | F28: 35355496 | G28: 3.1039872e+08 | H28: 6.4421651e+08
A29: 01 | B29: 0599 | C29: Municipal Obligations | D29: =E29+F29+G29+H29+D63+E63+F63+G63+H62 -> 28192136 | E29: 12858196 | F29: 8928324.3 | G29: 6400902.7 | H29: 0
A30: 01 | B30: 0599 | C30: Mutual Funds – Global Fixed Income | D30: =E30+F30+G30+H30+D64+E64+F64+G64+H64 -> 1.1205767e+10 | E30: 0 | F30: 0 | G30: 0 | H30: 0
A31: 01 | B31: 0599 | C31: Mutual Funds – Domestic Fixed Income | D31: 0 | E31: 0 | F31: 0 | G31: 0 | H31: 0
A32: 01 | B32: 0599 | C32: US Government Agency Obligations | D32: =E32+F32+G32+H32+D66+E66+F66+G66+H66 -> 2.4564368e+08 | E32: 0 | F32: 2.4564368e+08 | G32: 0 | H32: 0
A33: 01 | B33: 0599 | C33: U.S. Treasury Securities | D33: =E33+F33+G33+H33+D68+E68+F68+G68+H68 -> 3.0425117e+09 | E33: 0 | F33: 3.0425117e+09 | G33: 0 | H33: 0
A34: 01 | B34: 0599 | C34: Investments in STIF | D34: =E34+F34+G34+H34+D68+E68+F68+G68+H68 -> 3.19737e+08 | E34: 3.19737e+08 | F34: 0 | G34: 0 | H34: 0
A35: 01 | B35: 0599 | C35: Totals | D35: =SUM(D27:D34) -> 1.6818471e+10 | E35: =SUM(E27:E34) -> 5.6583457e+08 | F35: =SUM(F27:F34) -> 3.7714219e+09 | G35: =SUM(G27:G34) -> 3.2289616e+08 | H35: =SUM(H27:H34) -> 6.8074545e+08
A36: Standard & Poor's (Concluded)
A37: Fund Type | B37: GAAP Fund | C37: Investment Type | D37: BB | E37: B | F37: CCC | G37: Not Rated | H37: Not Applicable
A38: 02 | B38: 0001 | C38: Asset Back Security | D38: 0 | E38: 0 | F38: 0 | G38: 0 | H38: 0
A39: 02 | B39: 0001 | C39: U.S. Government Treasuries | D39: 0 | E39: 0 | F39: 0 | G39: 0 | H39: 0
A40: 02 | B40: 0001 | C40: U.S. Government Agencies | D40: 0 | E40: 0 | F40: 0 | G40: 0 | H40: 0
...

Sheet Note 5 Long Term Liabilities
A1: Note 5: Summary of Long Term Liabilities
A2: Governmental Activities | B2: Balance as of Sept. 1, 2024 | C2: Additions | D2: Reductions | E2: Other Changes | F2: Balance as of Aug. 31, 2025 | G2: Amounts due Within One Year | H2: Thereafter
A3: Employees' Compensable Leave | B3: 35206.58 | C3: 0 | D3: 0 | E3: -35206.58 | F3: =B3+C3+D3+E3 -> 0 | G3: 0 | H3: 0
A4: Total Governmental Activities | B4: =B3 -> 35206.58 | C4: =C3 -> 0 | D4: =G9 -> 0 | E4: =E3 -> -35206.58 | F4: =F3 -> 0 | G4: =G3 -> 0 | H4: 0
A5: Return to TOC
A6: End of Sheet

Sheet Note 7 Derivatives
A1: Note 7: Derivatives
A2: Permanent Fund Supporting Graduate Education (Appd Fund 0179) | B2: Changes in Fair Value Classification | C2: Changes in Fair Value Amount | D2: Fair Value as of Aug. 31, 2025 - Classification | E2: Fair Value as of Aug. 31, 2025-Amount | F2: Notional Amount
A3: Futures
A4: Commodities Futures | B4: Investment Revenue | C4: 0 | D4: Investment | E4: 0 | F4: 0
A5: Equity Index Futures | B5: Investment Revenue | C5: 0 | D5: Investment | E5: 0 | F5: 0
A6: Swaps
A7: Total Return Swap – Fixed Income | B7: Investment Revenue | C7: =+'[2]Note 7 Working Papers - TTSTC'!E20 -> 256548.82 | D7: Investment | E7: =+'[2]Note 7 Working Papers - TTSTC'!D20 -> 363205.86 | F7: =+'[2]Note 7 Working Papers - TTSTC'!F20 -> 14749034
A8: Total Return Swap – Equity | B8: Investment Revenue | C8: =+'[2]Note 7 Working Papers - TTSTC'!E21 -> 596570.34 | D8: Investment | E8: =+'[2]Note 7 Working Papers - TTSTC'!D21 -> 0 | F8: =+'[2]Note 7 Working Papers - TTSTC'!F21 -> 0
A9: Permanent Fund Supporting Military and Veterans Exemptions (Appd Fund 0210)
A10: Futures
A11: Commodities Futures | B11: Investment Revenue | C11: 0 | D11: Investment | E11: 0 | F11: 0
A12: Equity Index Futures | B12: Investment Revenue | C12: 0 | D12: Investment | E12: 0 | F12: 0
A13: Swaps
A14: Total Return Swap – Fixed Income | B14: Investment Revenue | C14: =+'[2]Note 7 Working Papers - TTSTC'!I20 -> 174010.31 | D14: Investment | E14: =+'[2]Note 7 Working Papers - TTSTC'!H20 -> 246352.98 | F14: =+'[2]Note 7 Working Papers - TTSTC'!J20 -> 10003881
A15: Total Return Swap – Equity | B15: Investment Revenue | C15: =+'[2]Note 7 Working Papers - TTSTC'!I21 -> 404637.97 | D15: Investment | E15: =+'[2]Note 7 Working Papers - TTSTC'!H21 -> 0 | F15: =+'[2]Note 7 Working Papers - TTSTC'!J21 -> 0
A16: Return to TOC
A17: End of Sheet

Sheet Note 12 Interfund
A1: NOTE 12: Interfund Activity and Transactions
A2: Fund | B2: Interfund Payable
A3: General Revenue (01)
A4: Agency 902, GAAP Fund 0001 UF Fund 0001 | B4: 3942733
A5: Total Interfund Payables/Receivable (Exh I) | B5: 3942733
A6: Return to TOC
A7: End of Sheet

Sheet Note 17 Risk Management
A1: NOTE 17: Risk Management
A2: FY | B2: Beginning Balance | C2: Increases | D2: Decreases | E2: Ending Balance
A3: ='[2]Master Dates'!B5 -> 2025 | B3: $0.00 | C3: 26900036 | D3: 26900036 | E3: $0.00
A4: ='[2]Master Dates'!C5 -> 2024 | B4: $0.00 | C4: 29197383 | D4: 29197383 | E4: $0.00
A5: ='[2]Master Dates'!D5 -> 2023 | B5: $0.00 | C5: 16273218 | D5: 16273218 | E5: $0.00
A6: Return to TOC
A7: End of Sheet

Sheet Note 27 Taxes Rec' & Payables
A1: NOTE 27: Taxes Receivables/Payables
A2: Tax Type | B2: Net Taxes Receivable
A3: Sales and Use | B3: 3.2370505e+09
A4: Motor Vehicle & MFG Housing | B4: 2.7205445e+08
A5: Motor Fuels | B5: 8882684.7
A6: Oil & Natural Gas Production | B6: 1.0262055e+09
A7: Franchise | B7: 0
A8: Insurance | B8: 5.9700971e+08
A9: Cigarette & Tobacco | B9: 22597669
A10: Other | B10: 3.4352526e+08
A11: Total Taxes | B11: =SUM(B3:B10) -> 5.5073257e+09
A12: As Reported on the Financial Statements
A13: Current Taxes Receivable | B13: =B11 -> 5.5073257e+09
A14: Noncurrent Taxes Receivable | B14: 0
A15: Total Taxes Receivable | B15: =B13+B14 -> 5.5073257e+09
A16: Refunds Payable | B16: -3.5608978e+08
A17: Total Net Taxes Receivable | B17: =B15+B16 -> 5.1512359e+09
A18: Return to TOC
A19: End of Sheet

Sheet Note 32 Govt Fund Balance
A1: NOTE 32: Governmental Fund Balances
A2: GAAP Fund | B2: Fund | C2: AFR 54 Class | D2: Citation | E2: Comments
A3: 0116 | B3: 0116 | C3: Committed | D3: Texas Local Government Code, Section 133.102 | E3: Funds committed for allocation to local law enforcement agencies for continuing education of law enforcement personnel as stipulated by the Legislature. There are no significant external restrictions.
A4: 0210 | B4: 0210 / 1210 | C4: Restricted | D4: Texas Education Code, Section 54.3411 | E4: Funds restricted to a specific purpose, to higher education institutions to offset the cost of the exemptions to certain veterans and/or dependents. Distributions are determined by the Legislative Budget Board based on each institution's respective share of the aggregate cost to all institutions of the exemptions.
A5: 0214 | B5: 0214 | C5: Restricted | D5: Texas Constitution, Article VII Section 20(a) | E5: Funds restricted to a specific purpose, to eligible institutions only for the support and maintenance of educational and general activities that promote increased research capacity at the institution.
A6: 0494 | B6: 0494 | C6: Restricted | D6: Texas Constitution, Article I Section 31 | E6: Funds restricted to a specific purpose, delivering victim-related compensation, services, or assistance.
A7: 0802 | B7: 8020 | C7: Committed | D7: Texas Transportation Code, Section 504.6012 | E7: Dedicated balances and revenues are to be deposited into accounts within the fund to be used in accordance with their specific statutory purpose.
A8: 0838 | B8: 8380 | C8: Committed | D8: Texas Tax Code, Chapter 41 Subchapter A | E8: The Comptroller’s office has broad authority to prescribe rules and administer funds deposited for pending arbitration concerning the appraised or market value of property. There are no significant external restrictions.
A9: 0886 | B9: 0886 | C9: Committed | D9: Texas Tax Code, Section 162.003(g) | E9: The Comptroller’s office has broad authority to transfer funds as necessary to carry out the purposes of the International Fuels Tax Agreement (IFTA). There are no significant external restrictions.
A10: 0903 | B10: 2903 | C10: Restricted | D10: Texas Local Government Code, Section 403.101; 33 U.S.C. Section 701c-3 | E10: To hold money allocated by the Federal Government to be distributed to counties and political subdivisions of the state based on the tax rate applied to lands acquired for flood control purposes.
A11: 5040 | B11: 5040 | C11: Restricted | D11: The State of Texas v. The American Tobacco Company, et. al, No. 5:96cv91 (U.S. District Court, Texarkana Division) | E11: Restrictions are externally imposed by the court ordered settlement.
A12: 5189 | B12: 4377 / 5189 | C12: Committed | D12: Government Code, Section 403.505 | E12: The opiod abatement account is dedicated account in the general revenue fund administered by the Comptroller. The Comptroller’s office has broad authority to transfer and administer funds deposited to state agency for the abatement of opioid-related harms.
A13: Return to TOC
A14: End of Sheet

Sheet Exhibit A-1
A1: Comptroller – Fiscal (902) EXHIBIT A-1 Combining Balance Sheet – All General and Consolidated Funds August 31, 2025
A2: Financial Statement Line Items | B2: Consolidated Funds General Revenue Fund (0001) U/F (0001, Various) | C2: Coastal Protection (0027) U/F (0027) | D2: County & Road District Highway Fund (0057) U/F (0057) | E2: Federal Disaster Fund (0092) U/F (0092) | F2: Law Enforcement Standards/Educ Fd (0116) U/F (0116) | G2: Coronavirus Relief Fund (0325) U/F (0325) | H2: Consolidated Funds Compensation Victims Crime Fd (0494) (U/F (0494) | I2: Federal Resource Receipts Distribution Fund (0521) U/F (1521) | J2: Economic Stabilization Fund (0599) U/F (0599,5990,5991) | K2: Petroleum Production Delivery Fee-Groundwater (0655) U/F (0655) | L2: License Plate Trust Fund (0802) U/F (0802, 8020) | M2: Texas Home Visiting Program Trust (0803) U/F (0803) | N2: Events Trust Fund for Municipality/County (0830) U/F (0830, 8300) | O2: Major Events Trust Fund (0869) U/F (0869) | P2: Sexual Assault Program Fund (5010) U/F (5010) | Q2: Consolidated Funds Tobacco Settlement Temporary Hold (5040) U/F (5040) | R2: Consolidated Funds 9-1-1 Service Fee Fund (5050) U/F (5050) | S2: Disabled Veterans Local Gov. Assistance (5160) U/F (5160) | T2: GR Account - Opioid Abatement (5189) U/F (5189,4377) | U2: Total (Exhibit A-1) 2025
A3: =+'Exhibit A-1 - no Z rows'!A2 -> ASSETS
A4: =+'Exhibit A-1 - no Z rows'!A3 -> Current Assets:
A5: =+'Exhibit A-1 - no Z rows'!A4 -> Cash and Cash Equivalents:
A6: =+'Exhibit A-1 - no Z rows'!A5 -> Cash in State Treasury | B6: 3.0237839e+10 | C6: 0 | D6: 0 | E6: 0 | F6: 0 | G6: 0 | H6: =+'Exhibit A-1 - no Z rows'!H5 -> 7833201.3 | I6: 0 | J6: =+'Exhibit A-1 - no Z rows'!J5 -> 3.4268271e+09 | K6: 0 | L6: 0 | M6: 0 | N6: 0 | O6: 0 | P6: 0 | Q6: =+'Exhibit A-1 - no Z rows'!Q5 -> 9.4185986e+08 | R6: 0 | S6: 0 | T6: =+'Exhibit A-1 - no Z rows'!T5 -> 1.2168732e+08 | U6: 3.4736046e+10
A7: =+'Exhibit A-1 - no Z rows'!A6 -> Short Term Investments (Note 3) | B7: 0 | C7: 0 | D7: 0 | E7: 0 | F7: 0 | G7: 0 | H7: 0 | I7: 0 | J7: =+'Exhibit A-1 - no Z rows'!J6 -> 2.3913706e+08 | K7: 0 | L7: 0 | M7: 0 | N7: 0 | O7: 0 | P7: 0 | Q7: 0 | R7: 0 | S7: 0 | T7: 0 | U7: =+'Exhibit A-1 - no Z rows'!U6 -> 2.3913706e+08
A8: =+'Exhibit A-1 - no Z rows'!A7 -> Legislative Appropriations | B8: -2.3370899e+08 | C8: 0 | D8: 0 | E8: 0 | F8: 0 | G8: 0 | H8: 0 | I8: 0 | J8: 0 | K8: 0 | L8: 0 | M8: 0 | N8: 0 | O8: 0 | P8: 0 | Q8: 0 | R8: 0 | S8: 0 | T8: 0 | U8: -2.3370899e+08
A9: =+'Exhibit A-1 - no Z rows'!A8 -> Receivables:
A10: =+'Exhibit A-1 - no Z rows'!A9 -> Accounts | B10: 0 | C10: 0 | D10: 0 | E10: 0 | F10: 0 | G10: 0 | H10: 0 | I10: 0 | J10: 0 | K10: 0 | L10: 0 | M10: 0 | N10: 0 | O10: 0 | P10: 0 | Q10: =+'Exhibit A-1 - no Z rows'!Q9 -> 2.8546667e+08 | R10: 0 | S10: 0 | T10: 0 | U10: =+'Exhibit A-1 - no Z rows'!U9 -> 2.8546667e+08
A11: =+'Exhibit A-1 - no Z rows'!A10 -> Taxes (Note 27) | B11: =+'Exhibit A-1 - no Z rows'!B10 -> 5.5073257e+09 | C11: 0 | D11: 0 | E11: 0 | F11: 0 | G11: 0 | H11: 0 | I11: 0 | J11: 0 | K11: 0 | L11: 0 | M11: 0 | N11: 0 | O11: 0 | P11: 0 | Q11: 0 | R11: 0 | S11: 0 | T11: 0 | U11: =+'Exhibit A-1 - no Z rows'!U10 -> 5.5073257e+09
A12: =+'Exhibit A-1 - no Z rows'!A11 -> Investment Trades | B12: 0 | C12: 0 | D12: 0 | E12: 0 | F12: 0 | G12: 0 | H12: 0 | I12: 0 | J12: =+'Exhibit A-1 - no Z rows'!J11 -> 17281151 | K12: 0 | L12: 0 | M12: 0 | N12: 0 | O12: 0 | P12: 0 | Q12: 0 | R12: 0 | S12: 0 | T12: 0 | U12: =+'Exhibit A-1 - no Z rows'!U11 -> 17281151
A13: =+'Exhibit A-1 - no Z rows'!A12 -> Interest and Dividends | B13: =+'Exhibit A-1 - no Z rows'!B12 -> 2033.25 | C13: 0 | D13: 0 | E13: 0 | F13: 0 | G13: 0 | H13: =+'Exhibit A-1 - no Z rows'!H12 -> 28763.82 | I13: 0 | J13: =+'Exhibit A-1 - no Z rows'!J12 -> 55045566 | K13: 0 | L13: =+'Exhibit A-1 - no Z rows'!L12 -> 36.48 | M13: 0 | N13: 0 | O13: 0 | P13: 0 | Q13: 0 | R13: 0 | S13: 0 | T13: 0 | U13: =+'Exhibit A-1 - no Z rows'!U12 -> 55076400
A14: =+'Exhibit A-1 - no Z rows'!A13 -> Due From Other Agencies | B14: =+'Exhibit A-1 - no Z rows'!B13 -> 63909315 | C14: 0 | D14: 0 | E14: 0 | F14: 0 | G14: 0 | H14: 0 | I14: 0 | J14: =+'Exhibit A-1 - no Z rows'!J13 -> 2.0488289e+09 | K14: 0 | L14: 0 | M14: 0 | N14: 0 | O14: 0 | P14: 0 | Q14: 0 | R14: 0 | S14: 0 | T14: 0 | U14: =+'Exhibit A-1 - no Z rows'!U13 -> 2.1127382e+09
A15: =+'Exhibit A-1 - no Z rows'!A14 -> Total Current Assets | B15: 3.5575367e+10 | C15: 0 | D15: 0 | E15: 0 | F15: 0 | G15: 0 | H15: =+'Exhibit A-1 - no Z rows'!H14 -> 7861965.1 | I15: 0 | J15: =+'Exhibit A-1 - no Z rows'!J14 -> 5.7871198e+09 | K15: 0 | L15: =+'Exhibit A-1 - no Z rows'!L14 -> 36.48 | M15: 0 | N15: 0 | O15: 0 | P15: 0 | Q15: =+'Exhibit A-1 - no Z rows'!Q14 -> 1.2273265e+09 | R15: 0 | S15: 0 | T15: =+'Exhibit A-1 - no Z rows'!T14 -> 1.2168732e+08 | U15: 4.2719362e+10
A16: =+'Exhibit A-1 - no Z rows'!A15 -> Non-Current Assets:
A17: =+'Exhibit A-1 - no Z rows'!A16 -> Investments (Note 3) | J17: =+'Exhibit A-1 - no Z rows'!J16 -> 2.1175117e+10 | U17: =+'Exhibit A-1 - no Z rows'!U16 -> 2.1175117e+10
A18: =+'Exhibit A-1 - no Z rows'!A17 -> Total Non-Current Assets | B18: 0 | C18: 0 | D18: 0 | E18: 0 | F18: 0 | G18: 0 | H18: 0 | I18: 0 | J18: =+'Exhibit A-1 - no Z rows'!J17 -> 2.1175117e+10 | K18: 0 | L18: 0 | M18: 0 | N18: 0 | O18: 0 | P18: 0 | Q18: 0 | R18: 0 | S18: 0 | T18: 0 | U18: =+'Exhibit A-1 - no Z rows'!U17 -> 2.1175117e+10
A19: =+'Exhibit A-1 - no Z rows'!A18 -> Total Assets | B19: 3.5575367e+10 | C19: 0 | D19: 0 | E19: 0 | F19: 0 | G19: 0 | H19: =+'Exhibit A-1 - no Z rows'!H18 -> 7861965.1 | I19: 0 | J19: =+'Exhibit A-1 - no Z rows'!J18 -> 2.6962237e+10 | K19: 0 | L19: =+'Exhibit A-1 - no Z rows'!L18 -> 36.48 | M19: 0 | N19: 0 | O19: 0 | P19: 0 | Q19: =+'Exhibit A-1 - no Z rows'!Q18 -> 1.2273265e+09 | R19: 0 | S19: 0 | T19: =+'Exhibit A-1 - no Z rows'!T18 -> 1.2168732e+08 | U19: 6.3894479e+10
A20: =+'Exhibit A-1 - no Z rows'!A21 -> Total Assets and Deferred Outflows of Resources | B20: 3.5575367e+10 | C20: 0 | D20: 0 | E20: 0 | F20: 0 | G20: 0 | H20: =+'Exhibit A-1 - no Z rows'!H21 -> 7861965.1 | I20: 0 | J20: =+'Exhibit A-1 - no Z rows'!J21 -> 2.6962237e+10 | K20: 0 | L20: =+'Exhibit A-1 - no Z rows'!L21 -> 36.48 | M20: 0 | N20: 0 | O20: 0 | P20: 0 | Q20: =+'Exhibit A-1 - no Z rows'!Q21 -> 1.2273265e+09 | R20: 0 | S20: 0 | T20: =+'Exhibit A-1 - no Z rows'!T21 -> 1.2168732e+08 | U20: 6.3894479e+10
A21: =+'Exhibit A-1 - no Z rows'!A23 -> LIABILITIES AND FUND BALANCES | C21: =+'Exhibit A-1 - no Z rows'!C23 -> 0
A22: =+'Exhibit A-1 - no Z rows'!A24 -> Liabilities: | C22: =+'Exhibit A-1 - no Z rows'!C24 -> 0
A23: =+'Exhibit A-1 - no Z rows'!A25 -> Current Liabilities:
A24: =+'Exhibit A-1 - no Z rows'!A26 -> Payables From:
A25: =+'Exhibit A-1 - no Z rows'!A27 -> Accounts | B25: =+'Exhibit A-1 - no Z rows'!B27 -> 20594266 | C25: 0 | D25: 0 | E25: =+'Exhibit A-1 - no Z rows'!E27 -> 711.84 | F25: 0 | G25: =+'Exhibit A-1 - no Z rows'!G27 -> 73028.34 | H25: 0 | I25: 0 | J25: =+'Exhibit A-1 - no Z rows'!J27 -> 84292.02 | K25: 0 | L25: 0 | M25: 0 | N25: 0 | O25: 0 | P25: 0 | Q25: 0 | R25: 0 | S25: 0 | T25: 0 | U25: =+'Exhibit A-1 - no Z rows'!U27 -> 20752298
A26: =+'Exhibit A-1 - no Z rows'!A28 -> Interfund Payable | B26: =+'Exhibit A-1 - no Z rows'!B28 -> 3942733 | C26: 0 | D26: 0 | E26: 0 | F26: 0 | G26: 0 | H26: 0 | I26: 0 | J26: 0 | K26: 0 | L26: 0 | M26: 0 | N26: 0 | O26: 0 | P26: 0 | Q26: 0 | R26: 0 | S26: 0 | T26: 0 | U26: =+'Exhibit A-1 - no Z rows'!U28 -> 3942733
A27: =+'Exhibit A-1 - no Z rows'!A29 -> Investment Trade Payable | B27: 0 | C27: 0 | D27: 0 | E27: 0 | F27: 0 | G27: 0 | H27: 0 | I27: 0 | J27: =+'Exhibit A-1 - no Z rows'!J29 -> 31923132 | K27: 0 | L27: 0 | M27: 0 | N27: 0 | O27: 0 | P27: 0 | Q27: 0 | R27: 0 | S27: 0 | T27: 0 | U27: =+'Exhibit A-1 - no Z rows'!U29 -> 31923132
A28: =+'Exhibit A-1 - no Z rows'!A30 -> Other Intergovernmental | B28: =+'Exhibit A-1 - no Z rows'!B30 -> 27318651 | C28: 0 | D28: 0 | E28: 0 | F28: 0 | G28: 0 | H28: 0 | I28: 0 | J28: 0 | K28: 0 | L28: 0 | M28: 0 | N28: 0 | O28: 0 | P28: 0 | Q28: 0 | R28: 0 | S28: 0 | T28: 0 | U28: =+'Exhibit A-1 - no Z rows'!U30 -> 27318651
A29: =+'Exhibit A-1 - no Z rows'!A31 -> Taxes Refund Payable | B29: =+'Exhibit A-1 - no Z rows'!B31 -> 3.5608978e+08 | C29: 0 | D29: 0 | E29: 0 | F29: 0 | G29: 0 | H29: 0 | I29: 0 | J29: 0 | K29: 0 | L29: 0 | M29: 0 | N29: 0 | O29: 0 | P29: 0 | Q29: 0 | R29: 0 | S29: 0 | T29: 0 | U29: =+'Exhibit A-1 - no Z rows'!U31 -> 3.5608978e+08
A30: =+'Exhibit A-1 - no Z rows'!A32 -> Other | B30: =+'Exhibit A-1 - no Z rows'!B32 -> 3.3401025e+08 | C30: 0 | D30: 0 | E30: 0 | F30: 0 | G30: 0 | H30: 0 | I30: 0 | J30: 0 | K30: 0 | L30: 0 | M30: 0 | N30: 0 | O30: 0 | P30: 0 | Q30: 0 | R30: 0 | S30: 0 | T30: 0 | U30: =+'Exhibit A-1 - no Z rows'!U32 -> 3.3401025e+08
A31: =+'Exhibit A-1 - no Z rows'!A33 -> Due To Other Agencies | B31: =+'Exhibit A-1 - no Z rows'!B33 -> 4.9851024e+09 | C31: 0 | D31: 0 | E31: 0 | F31: 0 | G31: 0 | H31: =+'Exhibit A-1 - no Z rows'!H33 -> 11925.3 | I31: 0 | J31: =+'Exhibit A-1 - no Z rows'!J33 -> 12517739 | K31: 0 | L31: 0 | M31: 0 | N31: 0 | O31: 0 | P31: 0 | Q31: 0 | R31: 0 | S31: 0 | T31: =+'Exhibit A-1 - no Z rows'!T33 -> 2019459.8 | U31: =+'Exhibit A-1 - no Z rows'!U33 -> 4.9996515e+09
A32: =+'Exhibit A-1 - no Z rows'!A34 -> Unearned Revenues | B32: =+'Exhibit A-1 - no Z rows'!B34 -> 1.3550361e+08 | C32: 0 | D32: 0 | E32: 0 | F32: 0 | G32: 0 | H32: 0 | I32: =+'Exhibit A-1 - no Z rows'!I34 -> 15095.58 | J32: 0 | K32: 0 | L32: 0 | M32: 0 | N32: 0 | O32: 0 | P32: =+'Exhibit A-1 - no Z rows'!P34 -> 11425167 | Q32: =+'Exhibit A-1 - no Z rows'!Q34 -> 2.8546667e+08 | R32: 0 | S32: 0 | T32: 0 | U32: =+'Exhibit A-1 - no Z rows'!U34 -> 4.3241054e+08
A33: =+'Exhibit A-1 - no Z rows'!A35 -> Total Current Liabilities | B33: =+'Exhibit A-1 - no Z rows'!B35 -> 5.8625617e+09 | C33: 0 | D33: 0 | E33: =+'Exhibit A-1 - no Z rows'!E35 -> 711.84 | F33: 0 | G33: =+'Exhibit A-1 - no Z rows'!G35 -> 73028.34 | H33: =+'Exhibit A-1 - no Z rows'!H35 -> 11925.3 | I33: =+'Exhibit A-1 - no Z rows'!I35 -> 15095.58 | J33: =+'Exhibit A-1 - no Z rows'!J35 -> 44525163 | K33: 0 | L33: 0 | M33: 0 | N33: 0 | O33: 0 | P33: =+'Exhibit A-1 - no Z rows'!P35 -> 11425167 | Q33: =+'Exhibit A-1 - no Z rows'!Q35 -> 2.8546667e+08 | R33: 0 | S33: 0 | T33: =+'Exhibit A-1 - no Z rows'!T35 -> 2019459.8 | U33: =+'Exhibit A-1 - no Z rows'!U35 -> 6.2060989e+09
A34: =+'Exhibit A-1 - no Z rows'!A36 -> Total Liabilities | B34: =+'Exhibit A-1 - no Z rows'!B36 -> 5.8625617e+09 | C34: 0 | D34: 0 | E34: =+'Exhibit A-1 - no Z rows'!E36 -> 711.84 | F34: 0 | G34: =+'Exhibit A-1 - no Z rows'!G36 -> 73028.34 | H34: =+'Exhibit A-1 - no Z rows'!H36 -> 11925.3 | I34: =+'Exhibit A-1 - no Z rows'!I36 -> 15095.58 | J34: =+'Exhibit A-1 - no Z rows'!J36 -> 44525163 | K34: 0 | L34: 0 | M34: 0 | N34: 0 | O34: 0 | P34: =+'Exhibit A-1 - no Z rows'!P36 -> 11425167 | Q34: =+'Exhibit A-1 - no Z rows'!Q36 -> 2.8546667e+08 | R34: 0 | S34: 0 | T34: =+'Exhibit A-1 - no Z rows'!T36 -> 2019459.8 | U34: =+'Exhibit A-1 - no Z rows'!U36 -> 6.2060989e+09
A35: =+'Exhibit A-1 - no Z rows'!A39 -> FUND FINANCIAL STATEMENT – FUND BALANCES
A36: =+'Exhibit A-1 - no Z rows'!A40 -> Fund Balances (Deficits):
A37: =+'Exhibit A-1 - no Z rows'!A41 -> Restricted | B37: 0 | C37: 0 | D37: 0 | E37: 0 | F37: 0 | G37: 0 | H37: =+'Exhibit A-1 - no Z rows'!H41 -> 7850039.8 | I37: 0 | J37: 0 | K37: 0 | L37: 0 | M37: 0 | N37: 0 | O37: 0 | P37: 0 | Q37: =+'Exhibit A-1 - no Z rows'!Q41 -> 9.4185986e+08 | R37: 0 | S37: 0 | T37: 0 | U37: =+'Exhibit A-1 - no Z rows'!U41 -> 9.497099e+08
A38: =+'Exhibit A-1 - no Z rows'!A42 -> Committed | B38: 0 | C38: 0 | D38: 0 | E38: 0 | F38: 0 | G38: 0 | H38: 0 | I38: 0 | J38: 0 | K38: 0 | L38: =+'Exhibit A-1 - no Z rows'!L42 -> 36.48 | M38: 0 | N38: 0 | O38: 0 | P38: 0 | Q38: 0 | R38: 0 | S38: 0 | T38: =+'Exhibit A-1 - no Z rows'!T42 -> 1.1966786e+08 | U38: =+'Exhibit A-1 - no Z rows'!U42 -> 1.196679e+08
A39: =+'Exhibit A-1 - no Z rows'!A43 -> Unassigned | B39: 2.9712805e+10 | C39: 0 | D39: 0 | E39: =+'Exhibit A-1 - no Z rows'!E43 -> -711.84 | F39: 0 | G39: =+'Exhibit A-1 - no Z rows'!G43 -> -73028.34 | H39: 0 | I39: =+'Exhibit A-1 - no Z rows'!I43 -> -15095.58 | J39: =+'Exhibit A-1 - no Z rows'!J43 -> 2.6917712e+10 | K39: 0 | L39: 0 | M39: 0 | N39: 0 | O39: 0 | P39: =+'Exhibit A-1 - no Z rows'!P43 -> -11425167 | Q39: 0 | R39: 0 | S39: 0 | T39: 0 | U39: 5.6619003e+10
A40: =+'Exhibit A-1 - no Z rows'!A44 -> Total Fund Balances | B40: 2.9712805e+10 | C40: 0 | D40: 0 | E40: =+'Exhibit A-1 - no Z rows'!E44 -> -711.84 | F40: =+'Exhibit A-1 - no Z rows'!F44 -> 3.4924597e-10 | G40: =+'Exhibit A-1 - no Z rows'!G44 -> -73028.34 | H40: =+'Exhibit A-1 - no Z rows'!H44 -> 7850039.8 | I40: =+'Exhibit A-1 - no Z rows'!I44 -> -15095.58 | J40: =+'Exhibit A-1 - no Z rows'!J44 -> 2.6917712e+10 | K40: 0 | L40: =+'Exhibit A-1 - no Z rows'!L44 -> 36.48 | M40: 0 | N40: 0 | O40: 0 | P40: =+'Exhibit A-1 - no Z rows'!P44 -> -11425167 | Q40: =+'Exhibit A-1 - no Z rows'!Q44 -> 9.4185986e+08 | R40: 0 | S40: 0 | T40: =+'Exhibit A-1 - no Z rows'!T44 -> 1.1966786e+08 | U40: 5.7688381e+10
...

Sheet Exhibit B-1 Final
A1: Comptroller – Fiscal (902)
A2: EXHIBIT B-1
A3: Combining Balance Sheet – Special Revenue Funds
A4: August 31, 2025
B5: Unclaimed Property Securities Fund (0001) U/F (4113) | C5: State Highway Fund (0006) U/F (0006) | D5: Property Tax Relief Fund (0304) U/F (0304) | E5: Tax Reduction and Excellence in Education Fund (0305) U/F (0305) | F5: Judicial Fund (0573) U/F (0573, 5730) | G5: General Land Office County Right of Way Leases (0808) U/F (2521) | H5: Binding Arbitration Trust Fund (0838) U/F (8380) | I5: International Fuels Tax Agreement Trust Fund (0886) U/F (0886) | J5: Flood Area School and Road Trust Fund (0903) U/F (2903) | K5: Opioid Abatement Local Operating Trust Fund (1202) U/F (1202) | L5: Habitat Protection Fund (9999) U/F (2999) | M5: Total (Exhibit B-1) 2025
A6: =+'Exhibit B-1 no Z rows'!A2 -> ASSETS
A7: =+'Exhibit B-1 no Z rows'!A3 -> Current Assets:
A8: =+'Exhibit B-1 no Z rows'!A4 -> Cash and Cash Equivalents:
A9: =+'Exhibit B-1 no Z rows'!A5 -> Cash in Bank (Note 3) | B9: =+'Exhibit B-1 no Z rows'!B5 -> 6437885.9 | C9: $ | D9: $ | E9: $ | F9: $ | G9: $ | H9: $ | I9: $ | J9: $ | K9: $ | L9: =+'Exhibit B-1 no Z rows'!L5 -> 12251128 | M9: =+'Exhibit B-1 no Z rows'!M5 -> 18689014
A10: =+'Exhibit B-1 no Z rows'!A6 -> Cash in State Treasury | H10: =+'Exhibit B-1 no Z rows'!H6 -> 3750 | I10: =+'Exhibit B-1 no Z rows'!I6 -> 6057770.8 | K10: =+'Exhibit B-1 no Z rows'!K6 -> 2086.78 | M10: =+'Exhibit B-1 no Z rows'!M6 -> 6063607.5
A11: =+'Exhibit B-1 no Z rows'!A7 -> Short Term Investments (Note 3) | B11: =+'Exhibit B-1 no Z rows'!B7 -> 1316237.2 | M11: =+'Exhibit B-1 no Z rows'!M7 -> 1316237.2
A12: =+'Exhibit B-1 no Z rows'!A8 -> Receivables:
A13: =+'Exhibit B-1 no Z rows'!A9 -> Interest and Dividends | B13: =+'Exhibit B-1 no Z rows'!B9 -> 27840.12 | D13: =+'Exhibit B-1 no Z rows'!D9 -> 425164.17 | K13: =+'Exhibit B-1 no Z rows'!K9 -> 7.6 | M13: =+'Exhibit B-1 no Z rows'!M9 -> 453011.89
A14: =+'Exhibit B-1 no Z rows'!A10 -> Due From Other Agencies | C14: =+'Exhibit B-1 no Z rows'!C10 -> 81168.23 | G14: =+'Exhibit B-1 no Z rows'!G10 -> 2708426.3 | M14: =+'Exhibit B-1 no Z rows'!M10 -> 2789594.5
A15: =+'Exhibit B-1 no Z rows'!A11 -> Total Current Assets | B15: =+'Exhibit B-1 no Z rows'!B11 -> 7781963.3 | C15: =+'Exhibit B-1 no Z rows'!C11 -> 81168.23 | D15: =+'Exhibit B-1 no Z rows'!D11 -> 425164.17 | G15: =+'Exhibit B-1 no Z rows'!G11 -> 2708426.3 | H15: =+'Exhibit B-1 no Z rows'!H11 -> 3750 | I15: =+'Exhibit B-1 no Z rows'!I11 -> 6057770.8 | K15: =+'Exhibit B-1 no Z rows'!K11 -> 2094.38 | L15: =+'Exhibit B-1 no Z rows'!L11 -> 12251128 | M15: =+'Exhibit B-1 no Z rows'!M11 -> 29311466
A16: =+'Exhibit B-1 no Z rows'!A12 -> Non-Current Assets:
A17: =+'Exhibit B-1 no Z rows'!A13 -> Investments (Note 3) | B17: =+'Exhibit B-1 no Z rows'!B13 -> 9.7465808e+08 | M17: =+'Exhibit B-1 no Z rows'!M13 -> 9.7465808e+08
A18: =+'Exhibit B-1 no Z rows'!A14 -> Total Non-Current Assets | B18: =+'Exhibit B-1 no Z rows'!B14 -> 9.7465808e+08 | C18: 0 | D18: 0 | E18: 0 | F18: 0 | G18: 0 | H18: 0 | I18: 0 | J18: 0 | K18: 0 | L18: 0 | M18: =+'Exhibit B-1 no Z rows'!M14 -> 9.7465808e+08
A19: =+'Exhibit B-1 no Z rows'!A15 -> Total Assets | B19: =+'Exhibit B-1 no Z rows'!B15 -> 9.8244004e+08 | C19: =+'Exhibit B-1 no Z rows'!C15 -> 81168.23 | D19: =+'Exhibit B-1 no Z rows'!D15 -> 425164.17 | E19: 0 | F19: 0 | G19: =+'Exhibit B-1 no Z rows'!G15 -> 2708426.3 | H19: =+'Exhibit B-1 no Z rows'!H15 -> 3750 | I19: =+'Exhibit B-1 no Z rows'!I15 -> 6057770.8 | J19: 0 | K19: =+'Exhibit B-1 no Z rows'!K15 -> 2094.38 | L19: =+'Exhibit B-1 no Z rows'!L15 -> 12251128 | M19: =+'Exhibit B-1 no Z rows'!M15 -> 1.0039695e+09
A22: =+'Exhibit B-1 no Z rows'!A18 -> Total Assets and Deferred Outflows of Resources | B22: =+'Exhibit B-1 no Z rows'!B18 -> 9.8244004e+08 | C22: =+'Exhibit B-1 no Z rows'!C18 -> 81168.23 | D22: =+'Exhibit B-1 no Z rows'!D18 -> 425164.17 | E22: 0 | F22: 0 | G22: =+'Exhibit B-1 no Z rows'!G18 -> 2708426.3 | H22: =+'Exhibit B-1 no Z rows'!H18 -> 3750 | I22: =+'Exhibit B-1 no Z rows'!I18 -> 6057770.8 | J22: 0 | K22: =+'Exhibit B-1 no Z rows'!K18 -> 2094.38 | L22: =+'Exhibit B-1 no Z rows'!L18 -> 12251128 | M22: =+'Exhibit B-1 no Z rows'!M18 -> 1.0039695e+09
A24: =+'Exhibit B-1 no Z rows'!A20 -> LIABILITIES AND FUND BALANCES
A25: =+'Exhibit B-1 no Z rows'!A21 -> Current Liabilities:
A26: =+'Exhibit B-1 no Z rows'!A22 -> Payables From:
A27: =+'Exhibit B-1 no Z rows'!A23 -> Accounts | B27: $ | C27: =+'Exhibit B-1 no Z rows'!C23 -> 81168.23 | D27: $ | E27: $ | F27: $ | G27: =+'Exhibit B-1 no Z rows'!G23 -> 56.64 | H27: $ | I27: $ | J27: $ | K27: $ | L27: =+'Exhibit B-1 no Z rows'!L23 -> 84324.93 | M27: =+'Exhibit B-1 no Z rows'!M23 -> 165549.8
A28: =+'Exhibit B-1 no Z rows'!A24 -> Total Current Liabilities | B28: 0 | C28: =+'Exhibit B-1 no Z rows'!C24 -> 81168.23 | D28: 0 | E28: 0 | F28: 0 | G28: =+'Exhibit B-1 no Z rows'!G24 -> 56.64 | H28: 0 | I28: 0 | J28: 0 | K28: 0 | L28: =+'Exhibit B-1 no Z rows'!L24 -> 84324.93 | M28: =+'Exhibit B-1 no Z rows'!M24 -> 165549.8
A29: =+'Exhibit B-1 no Z rows'!A25 -> Total Liabilities | B29: 0 | C29: =+'Exhibit B-1 no Z rows'!C25 -> 81168.23 | D29: 0 | E29: 0 | F29: 0 | G29: =+'Exhibit B-1 no Z rows'!G25 -> 56.64 | H29: 0 | I29: 0 | J29: 0 | K29: 0 | L29: =+'Exhibit B-1 no Z rows'!L25 -> 84324.93 | M29: =+'Exhibit B-1 no Z rows'!M25 -> 165549.8
A31: =+'Exhibit B-1 no Z rows'!A27 -> DEFERRED INFLOWS
A32: =+'Exhibit B-1 no Z rows'!A28 -> Deferred Inflows of Resources (Note 29) | B32: =+'Exhibit B-1 no Z rows'!B28 -> 9.8244004e+08 | M32: =+'Exhibit B-1 no Z rows'!M28 -> 9.8244004e+08
A33: =+'Exhibit B-1 no Z rows'!A29 -> Total Deferred Inflows | B33: =+'Exhibit B-1 no Z rows'!B29 -> 9.8244004e+08 | C33: 0 | D33: 0 | E33: 0 | F33: 0 | G33: 0 | H33: 0 | I33: 0 | J33: 0 | K33: 0 | L33: 0 | M33: =+'Exhibit B-1 no Z rows'!M29 -> 9.8244004e+08
A35: =+'Exhibit B-1 no Z rows'!A31 -> FUND FINANCIAL STATEMENT – FUND BALANCES
A36: =+'Exhibit B-1 no Z rows'!A32 -> Fund Balances (Deficits):
