Workbook

Sheet Respondent Total Budget
A1: PROPOSAL TITLE
A3: Submitted by:
A6: TOTAL PROJECT BUDGET | I6: COMMENTS
B7: YEAR 1 | C7: YEAR 2 | D7: YEAR 3 | E7: YEAR 4 | F7: YEAR 5 | G7: TOTAL | I7: Comments pertaining to spreadsheet and/or calculations only. Leave blank if none.
B8: Sept. 1, 2026 - Aug. 31, 2027 | C8: Sept. 1, 2027 - Aug. 31, 2028 | D8: Sept. 1, 2028 - Aug. 31, 2029 | E8: Sept. 1, 2029 - Aug. 31, 2030 | F8: Sept. 1, 2030 - Contract Expiration
A9: Direct Cost Categories | B9: Dollar Amount | C9: Dollar Amount | D9: Dollar Amount | E9: Dollar Amount | F9: Dollar Amount | G9: Dollar Amount
A10: Contractual | B10: =Contractual!C12 -> 0 | C10: =Contractual!D12 -> 0 | D10: =Contractual!E12 -> 0 | E10: =Contractual!F12 -> 0 | F10: =Contractual!G12 -> 0 | G10: =SUM(B10:C10:D10:E10:F10) -> 0
A11: Personnel | B11: =Personnel!E22 -> 0 | C11: =Personnel!F22 -> 0 | D11: =Personnel!G22 -> 0 | E11: =Personnel!H22 -> 0 | F11: =Personnel!I22 -> 0 | G11: =SUM(B11:C11:D11:E11:F11) -> 0
A12: Travel | B12: =Travel!B17 -> 0 | C12: =Travel!C17 -> 0 | D12: =Travel!D17 -> 0 | E12: =Travel!E17 -> 0 | F12: =Travel!F17 -> 0 | G12: =SUM(B12:C12:D12:E12:F12) -> 0
A13: Supplies | B13: =Supplies!C17 -> 0 | C13: =Supplies!D17 -> 0 | D13: =Supplies!E17 -> 0 | E13: =Supplies!F17 -> 0 | F13: =Supplies!G17 -> 0 | G13: =SUM(B13:C13:D13:E13:F13) -> 0
A14: Equipment | B14: =Equipment!C12 -> 0 | C14: =Equipment!D12 -> 0 | D14: =Equipment!E12 -> 0 | E14: =Equipment!F12 -> 0 | F14: =Equipment!G12 -> 0 | G14: =SUM(B14:C14:D14:E14:F14) -> 0
A15: Other (tuition or publication only) | B15: =Other!C11 -> 0 | C15: =Other!D11 -> 0 | D15: =Other!E11 -> 0 | E15: =Other!F11 -> 0 | F15: =Other!G11 -> 0 | G15: =SUM(B15:C15:D15:E15:F15) -> 0
A16: Direct Costs | B16: =SUM(B10:B15) -> 0 | C16: =SUM(C10:C15) -> 0 | D16: =SUM(D10:D15) -> 0 | E16: =SUM(E10:E15) -> 0 | F16: =SUM(F10:F15) -> 0 | G16: =SUM(B16:C16:D16:E16:F16) -> 0
A17: Indirect Cost (10% cap) | G17: =SUM(B17:C17:D17:E17:F17) -> 0
A18: Total Cost | B18: =SUM(B16+B17) -> 0 | C18: =SUM(C16+C17) -> 0 | D18: =SUM(D16+D17) -> 0 | E18: =SUM(E16+E17) -> 0 | F18: =SUM(F16+F17) -> 0 | G18: =SUM(G16:G17) -> 0

Sheet Contractual
A1: Contractual Costs
A5: Contractor Name | B5: Contractor Contact | C5: YEAR 1 | D5: YEAR 2 | E5: YEAR 3 | F5: YEAR 4 | G5: YEAR 5 | H5: Totals
C6: Sept. 1, 2026 - Aug. 31, 2027 | D6: Sept. 1, 2027 - Aug. 31, 2028 | E6: Sept. 1, 2028 - Aug. 31, 2029 | F6: Sept. 1, 2029 - Aug. 31, 2030 | G6: Sept. 1, 2030 - Contract Expiration
H7: =SUM(C7:G7) -> 0
H8: =SUM(C8:G8) -> 0
H9: =SUM(C9:G9) -> 0
H10: =SUM(C10:G10) -> 0
H11: =SUM(C11:G11) -> 0
B12: Total Contractual Costs | C12: =SUM(C7:C11) -> 0 | D12: =SUM(D7:D11) -> 0 | E12: =SUM(E7:E11) -> 0 | F12: =SUM(F7:F11) -> 0 | G12: =SUM(G7:G11) -> 0 | H12: =SUM(H7:H11) -> 0
A15: COMMENTS
A16: Comments pertaining to spreadsheet and/or calculations only. Leave blank if none.

Sheet Personnel
A1: Personnel Costs
A5: Personnel | B5: Role | C5: Rate | D5: Months per Year | E5: YEAR 1 | F5: YEAR 2 | G5: YEAR 3 | H5: YEAR 4 | I5: YEAR 5 | J5: Totals
A6: (Name or title) | B6: (e.g. Principal Investigator, Graduate Assistant, Field Technician, etc.) | C6: (annual/monthly/hourly) | D6: (average) | E6: Sept. 1, 2026 - Aug. 31, 2027 | F6: Sept. 1, 2027 - Aug. 31, 2028 | G6: Sept. 1, 2028 - Aug. 31, 2029 | H6: Sept. 1, 2029 - Aug. 31, 2030 | I6: Sept. 1, 2030 - Contract Expiration
J7: =SUM(E7:I7) -> 0
J8: =SUM(E8:I8) -> 0
J9: =SUM(E9:I9) -> 0
J10: =SUM(E10:I10) -> 0
J11: =SUM(E11:I11) -> 0
J12: =SUM(E12:I12) -> 0
J13: =SUM(E13:I13) -> 0
J14: =SUM(E14:I14) -> 0
J15: =SUM(E15:I15) -> 0
J16: =SUM(E16:I16) -> 0
J17: =SUM(E17:I17) -> 0
J18: =SUM(E18:I18) -> 0
... J21: =SUM(E21:I21) -> 0
D22: Total Personnel Costs | E22: =SUM(E7:E21) -> 0 | F22: =SUM(F7:F21) -> 0 | G22: =SUM(G7:G21) -> 0 | H22: =SUM(H7:H21) -> 0 | I22: =SUM(I7:I21) -> 0 | J22: =SUM(J7:J21) -> 0
A25: COMMENTS
A26: Comments pertaining to spreadsheet and/or calculations only. Leave blank if none.

Sheet Travel
A1: Travel Costs
A5: Trip Type | B5: YEAR 1 | C5: YEAR 2 | D5: YEAR 3 | E5: YEAR 4 | F5: YEAR 5 | G5: Totals
A6: (e.g. field sampling, meetings, etc.) | B6: Sept. 1, 2026 - Aug. 31, 2027 | C6: Sept. 1, 2027 - Aug. 31, 2028 | D6: Sept. 1, 2028 - Aug. 31, 2029 | E6: Sept. 1, 2029 - Aug. 31, 2030 | F6: Sept. 1, 2030 - Contract Expiration
G7: =SUM(B7:F7) -> 0
G8: =SUM(B8:F8) -> 0
G9: =SUM(B9:F9) -> 0
G10: =SUM(B10:F10) -> 0
G11: =SUM(B11:F11) -> 0
G12: =SUM(B12:F12) -> 0
G13: =SUM(B13:F13) -> 0
G14: =SUM(B14:F14) -> 0
G15: =SUM(B15:F15) -> 0
G16: =SUM(B16:F16) -> 0
A17: Total Travel Costs | B17: =SUM(B7:B16) -> 0 | C17: =SUM(C7:C16) -> 0 | D17: =SUM(D7:D16) -> 0 | E17: =SUM(E7:E16) -> 0 | F17: =SUM(F7:F16) -> 0 | G17: =SUM(G7:G16) -> 0
A19: COMMENTS
A20: Comments pertaining to spreadsheet and/or calculations only. Leave blank if none.

Sheet Supplies
A1: Supply Costs
A5: Supply Type | B5: Item Make/Model | C5: YEAR 1 | D5: YEAR 2 | E5: YEAR 3 | F5: YEAR 4 | G5: YEAR 5 | H5: Totals
A6: (e.g. field sampling supplies, laboratory supplies, etc.) | B6: (only if $1,000+ per item) | C6: Sept. 1, 2026 - Aug. 31, 2027 | D6: Sept. 1, 2027 - Aug. 31, 2028 | E6: Sept. 1, 2028 - Aug. 31, 2029 | F6: Sept. 1, 2029 - Aug. 31, 2030 | G6: Sept. 1, 2030 - Contract Expiration
H7: =SUM(C7:G7) -> 0
H8: =SUM(C8:G8) -> 0
H9: =SUM(C9:G9) -> 0
H10: =SUM(C10:G10) -> 0
H11: =SUM(C11:G11) -> 0
H12: =SUM(C12:G12) -> 0
H13: =SUM(C13:G13) -> 0
H14: =SUM(C14:G14) -> 0
H15: =SUM(C15:G15) -> 0
H16: =SUM(C16:G16) -> 0
A17: Total Supply Costs | C17: =SUM(C7:C16) -> 0 | D17: =SUM(D7:D16) -> 0 | E17: =SUM(E7:E16) -> 0 | F17: =SUM(F7:F16) -> 0 | G17: =SUM(G7:G16) -> 0 | H17: =SUM(H7:H16) -> 0
A19: COMMENTS
A20: Comments pertaining to spreadsheet and/or calculations only. Leave blank if none.

Sheet Equipment
A1: Equipment Costs
A5: Item Name | B5: Item Make/Model | C5: YEAR 1 | D5: YEAR 2 | E5: YEAR 3 | F5: YEAR 4 | G5: YEAR 5 | H5: Totals
A6: (e.g. flux capacitor, particle accelerator, etc.) | B6: (or similar) | C6: Sept. 1, 2026 - Aug. 31, 2027 | D6: Sept. 1, 2027 - Aug. 31, 2028 | E6: Sept. 1, 2028 - Aug. 31, 2029 | F6: Sept. 1, 2029 - Aug. 31, 2030 | G6: Sept. 1, 2030 - Contract Expiration
H7: =SUM(C7:G7) -> 0
H8: =SUM(C8:G8) -> 0
H9: =SUM(C9:G9) -> 0
H10: =SUM(C10:G10) -> 0
H11: =SUM(C11:G11) -> 0
B12: Total Equipment Costs | C12: =SUM(C7:C11) -> 0 | D12: =SUM(D7:D11) -> 0 | E12: =SUM(E7:E11) -> 0 | F12: =SUM(F7:F11) -> 0 | G12: =SUM(G7:G11) -> 0 | H12: =SUM(H7:H11) -> 0
A14: COMMENTS
A15: Comments pertaining to spreadsheet and/or calculations only. Leave blank if none.

Sheet Other
A1: Other Costs | B1: tuition or publication only
A5: Publication or Tuition | B5: Journal Name or Thesis Topic | C5: YEAR 1 | D5: YEAR 2 | E5: YEAR 3 | F5: YEAR 4 | G5: YEAR 5 | H5: Totals
C6: Sept. 1, 2026 - Aug. 31, 2027 | D6: Sept. 1, 2027 - Aug. 31, 2028 | E6: Sept. 1, 2028 - Aug. 31, 2029 | F6: Sept. 1, 2029 - Aug. 31, 2030 | G6: Sept. 1, 2030 - Contract Expiration
H7: =SUM(C7:G7) -> 0
H8: =SUM(C8:G8) -> 0
H9: =SUM(C9:G9) -> 0
H10: =SUM(C10:G10) -> 0
B11: Total Other Costs | C11: =SUM(C7:C10) -> 0 | D11: =SUM(D7:D10) -> 0 | E11: =SUM(E7:E10) -> 0 | F11: =SUM(F7:F10) -> 0 | G11: =SUM(G7:G10) -> 0 | H11: =SUM(H7:H10) -> 0
A13: COMMENTS
A14: Comments pertaining to spreadsheet and/or calculations only. Leave blank if none.
